BEGIN:VCALENDAR
VERSION:2.0
PRODID:-//Doug Robb Music - ECPv6.15.20//NONSGML v1.0//EN
CALSCALE:GREGORIAN
METHOD:PUBLISH
X-ORIGINAL-URL:https://dougrobbmusic.com
X-WR-CALDESC:Events for Doug Robb Music
REFRESH-INTERVAL;VALUE=DURATION:PT1H
X-Robots-Tag:noindex
X-PUBLISHED-TTL:PT1H
BEGIN:VTIMEZONE
TZID:America/Edmonton
BEGIN:DAYLIGHT
TZOFFSETFROM:-0700
TZOFFSETTO:-0600
TZNAME:MDT
DTSTART:20230312T090000
END:DAYLIGHT
BEGIN:STANDARD
TZOFFSETFROM:-0600
TZOFFSETTO:-0700
TZNAME:MST
DTSTART:20231105T080000
END:STANDARD
BEGIN:DAYLIGHT
TZOFFSETFROM:-0700
TZOFFSETTO:-0600
TZNAME:MDT
DTSTART:20240310T090000
END:DAYLIGHT
BEGIN:STANDARD
TZOFFSETFROM:-0600
TZOFFSETTO:-0700
TZNAME:MST
DTSTART:20241103T080000
END:STANDARD
BEGIN:DAYLIGHT
TZOFFSETFROM:-0700
TZOFFSETTO:-0600
TZNAME:MDT
DTSTART:20250309T090000
END:DAYLIGHT
BEGIN:STANDARD
TZOFFSETFROM:-0600
TZOFFSETTO:-0700
TZNAME:MST
DTSTART:20251102T080000
END:STANDARD
END:VTIMEZONE
BEGIN:VEVENT
DTSTART;TZID=America/Edmonton:20240906T210000
DTEND;TZID=America/Edmonton:20240907T003000
DTSTAMP:20260425T135906
CREATED:20240812T180150Z
LAST-MODIFIED:20240812T180150Z
UID:1328-1725656400-1725669000@dougrobbmusic.com
SUMMARY:Vee Restaurant and Lounge\, Century Casino St Albert
DESCRIPTION:
URL:https://dougrobbmusic.com/event/vee-restaurant-and-lounge-century-casino-st-albert-2-2/
LOCATION:Vee Restaurant and Lounge\, Century Casino St Albert\, 4 Boudreau Rd\, St. Albert\, Alberta\, T8N 6K3\, Canada
CATEGORIES:Powerhouse
ATTACH;FMTTYPE=image/png:https://dougrobbmusic.com/wp-content/uploads/2024/08/24.09.0607-Powerhouse-Century-Casino-St.-Albert.png
ORGANIZER;CN="Vince Greenwood%2C Powerhouse Manager":MAILTO:vincegreenwood92@gmail.com
END:VEVENT
END:VCALENDAR