BEGIN:VCALENDAR
VERSION:2.0
PRODID:-//Doug Robb Music - ECPv6.15.20//NONSGML v1.0//EN
CALSCALE:GREGORIAN
METHOD:PUBLISH
X-WR-CALNAME:Doug Robb Music
X-ORIGINAL-URL:https://dougrobbmusic.com
X-WR-CALDESC:Events for Doug Robb Music
REFRESH-INTERVAL;VALUE=DURATION:PT1H
X-Robots-Tag:noindex
X-PUBLISHED-TTL:PT1H
BEGIN:VTIMEZONE
TZID:America/Vancouver
BEGIN:DAYLIGHT
TZOFFSETFROM:-0800
TZOFFSETTO:-0700
TZNAME:PDT
DTSTART:20230312T100000
END:DAYLIGHT
BEGIN:STANDARD
TZOFFSETFROM:-0700
TZOFFSETTO:-0800
TZNAME:PST
DTSTART:20231105T090000
END:STANDARD
BEGIN:DAYLIGHT
TZOFFSETFROM:-0800
TZOFFSETTO:-0700
TZNAME:PDT
DTSTART:20240310T100000
END:DAYLIGHT
BEGIN:STANDARD
TZOFFSETFROM:-0700
TZOFFSETTO:-0800
TZNAME:PST
DTSTART:20241103T090000
END:STANDARD
BEGIN:DAYLIGHT
TZOFFSETFROM:-0800
TZOFFSETTO:-0700
TZNAME:PDT
DTSTART:20250309T100000
END:DAYLIGHT
BEGIN:STANDARD
TZOFFSETFROM:-0700
TZOFFSETTO:-0800
TZNAME:PST
DTSTART:20251102T090000
END:STANDARD
END:VTIMEZONE
BEGIN:VTIMEZONE
TZID:America/Edmonton
BEGIN:DAYLIGHT
TZOFFSETFROM:-0700
TZOFFSETTO:-0600
TZNAME:MDT
DTSTART:20230312T090000
END:DAYLIGHT
BEGIN:STANDARD
TZOFFSETFROM:-0600
TZOFFSETTO:-0700
TZNAME:MST
DTSTART:20231105T080000
END:STANDARD
BEGIN:DAYLIGHT
TZOFFSETFROM:-0700
TZOFFSETTO:-0600
TZNAME:MDT
DTSTART:20240310T090000
END:DAYLIGHT
BEGIN:STANDARD
TZOFFSETFROM:-0600
TZOFFSETTO:-0700
TZNAME:MST
DTSTART:20241103T080000
END:STANDARD
BEGIN:DAYLIGHT
TZOFFSETFROM:-0700
TZOFFSETTO:-0600
TZNAME:MDT
DTSTART:20250309T090000
END:DAYLIGHT
BEGIN:STANDARD
TZOFFSETFROM:-0600
TZOFFSETTO:-0700
TZNAME:MST
DTSTART:20251102T080000
END:STANDARD
END:VTIMEZONE
BEGIN:VEVENT
DTSTART;TZID=America/Vancouver:20240907T120000
DTEND;TZID=America/Vancouver:20240907T170000
DTSTAMP:20260425T135757
CREATED:20240826T015500Z
LAST-MODIFIED:20240826T015500Z
UID:1377-1725710400-1725728400@dougrobbmusic.com
SUMMARY:*PRIVATE EVENT*
DESCRIPTION:
URL:https://dougrobbmusic.com/event/private-event-3-2-2-2-2-2-2/
LOCATION:Alberta
CATEGORIES:Doug Robb Acoustic Shows
ATTACH;FMTTYPE=image/png:https://dougrobbmusic.com/wp-content/uploads/2024/06/Private-Event.png
ORGANIZER;CN="The Next Level Entertainment Consulting Inc":MAILTO:info@tnlec.com
END:VEVENT
BEGIN:VEVENT
DTSTART;TZID=America/Edmonton:20240907T210000
DTEND;TZID=America/Edmonton:20240908T003000
DTSTAMP:20260425T135757
CREATED:20240812T180255Z
LAST-MODIFIED:20240812T180255Z
UID:1331-1725742800-1725755400@dougrobbmusic.com
SUMMARY:Vee Restaurant and Lounge\, Century Casino St Albert
DESCRIPTION:
URL:https://dougrobbmusic.com/event/vee-restaurant-and-lounge-century-casino-st-albert-2-2-2/
LOCATION:Vee Restaurant and Lounge\, Century Casino St Albert\, 4 Boudreau Rd\, St. Albert\, Alberta\, T8N 6K3\, Canada
CATEGORIES:Powerhouse
ATTACH;FMTTYPE=image/png:https://dougrobbmusic.com/wp-content/uploads/2024/08/24.09.0607-Powerhouse-Century-Casino-St.-Albert.png
ORGANIZER;CN="Vince Greenwood%2C Powerhouse Manager":MAILTO:vincegreenwood92@gmail.com
END:VEVENT
END:VCALENDAR