BEGIN:VCALENDAR
VERSION:2.0
PRODID:-//Doug Robb Music - ECPv6.15.20//NONSGML v1.0//EN
CALSCALE:GREGORIAN
METHOD:PUBLISH
X-ORIGINAL-URL:https://dougrobbmusic.com
X-WR-CALDESC:Events for Doug Robb Music
REFRESH-INTERVAL;VALUE=DURATION:PT1H
X-Robots-Tag:noindex
X-PUBLISHED-TTL:PT1H
BEGIN:VTIMEZONE
TZID:America/Edmonton
BEGIN:DAYLIGHT
TZOFFSETFROM:-0700
TZOFFSETTO:-0600
TZNAME:MDT
DTSTART:20230312T090000
END:DAYLIGHT
BEGIN:STANDARD
TZOFFSETFROM:-0600
TZOFFSETTO:-0700
TZNAME:MST
DTSTART:20231105T080000
END:STANDARD
BEGIN:DAYLIGHT
TZOFFSETFROM:-0700
TZOFFSETTO:-0600
TZNAME:MDT
DTSTART:20240310T090000
END:DAYLIGHT
BEGIN:STANDARD
TZOFFSETFROM:-0600
TZOFFSETTO:-0700
TZNAME:MST
DTSTART:20241103T080000
END:STANDARD
BEGIN:DAYLIGHT
TZOFFSETFROM:-0700
TZOFFSETTO:-0600
TZNAME:MDT
DTSTART:20250309T090000
END:DAYLIGHT
BEGIN:STANDARD
TZOFFSETFROM:-0600
TZOFFSETTO:-0700
TZNAME:MST
DTSTART:20251102T080000
END:STANDARD
END:VTIMEZONE
BEGIN:VEVENT
DTSTART;TZID=America/Edmonton:20241012T200000
DTEND;TZID=America/Edmonton:20241013T000000
DTSTAMP:20260425T122253
CREATED:20240815T223608Z
LAST-MODIFIED:20240815T223608Z
UID:1373-1728763200-1728777600@dougrobbmusic.com
SUMMARY:High Note Bar & Grill
DESCRIPTION:
URL:https://dougrobbmusic.com/event/high-note-bar-grill/
LOCATION:High Note Bar & Grill\, 12315 118 Ave NW\, Edmonton\, Alberta\, T5L 2K2\, Canada
CATEGORIES:Powerhouse
ATTACH;FMTTYPE=image/png:https://dougrobbmusic.com/wp-content/uploads/2024/08/24.10.12-Powerhouse-High-Note-Bar-Grill-Edmonton-AB-Website.png
ORGANIZER;CN="Vince Greenwood%2C Powerhouse Manager":MAILTO:vincegreenwood92@gmail.com
END:VEVENT
END:VCALENDAR