BEGIN:VCALENDAR
VERSION:2.0
PRODID:-//Doug Robb Music - ECPv6.15.20//NONSGML v1.0//EN
CALSCALE:GREGORIAN
METHOD:PUBLISH
X-WR-CALNAME:Doug Robb Music
X-ORIGINAL-URL:https://dougrobbmusic.com
X-WR-CALDESC:Events for Doug Robb Music
REFRESH-INTERVAL;VALUE=DURATION:PT1H
X-Robots-Tag:noindex
X-PUBLISHED-TTL:PT1H
BEGIN:VTIMEZONE
TZID:America/Edmonton
BEGIN:DAYLIGHT
TZOFFSETFROM:-0700
TZOFFSETTO:-0600
TZNAME:MDT
DTSTART:20220313T090000
END:DAYLIGHT
BEGIN:STANDARD
TZOFFSETFROM:-0600
TZOFFSETTO:-0700
TZNAME:MST
DTSTART:20221106T080000
END:STANDARD
BEGIN:DAYLIGHT
TZOFFSETFROM:-0700
TZOFFSETTO:-0600
TZNAME:MDT
DTSTART:20230312T090000
END:DAYLIGHT
BEGIN:STANDARD
TZOFFSETFROM:-0600
TZOFFSETTO:-0700
TZNAME:MST
DTSTART:20231105T080000
END:STANDARD
BEGIN:DAYLIGHT
TZOFFSETFROM:-0700
TZOFFSETTO:-0600
TZNAME:MDT
DTSTART:20240310T090000
END:DAYLIGHT
BEGIN:STANDARD
TZOFFSETFROM:-0600
TZOFFSETTO:-0700
TZNAME:MST
DTSTART:20241103T080000
END:STANDARD
END:VTIMEZONE
BEGIN:VTIMEZONE
TZID:America/Vancouver
BEGIN:DAYLIGHT
TZOFFSETFROM:-0800
TZOFFSETTO:-0700
TZNAME:PDT
DTSTART:20220313T100000
END:DAYLIGHT
BEGIN:STANDARD
TZOFFSETFROM:-0700
TZOFFSETTO:-0800
TZNAME:PST
DTSTART:20221106T090000
END:STANDARD
BEGIN:DAYLIGHT
TZOFFSETFROM:-0800
TZOFFSETTO:-0700
TZNAME:PDT
DTSTART:20230312T100000
END:DAYLIGHT
BEGIN:STANDARD
TZOFFSETFROM:-0700
TZOFFSETTO:-0800
TZNAME:PST
DTSTART:20231105T090000
END:STANDARD
BEGIN:DAYLIGHT
TZOFFSETFROM:-0800
TZOFFSETTO:-0700
TZNAME:PDT
DTSTART:20240310T100000
END:DAYLIGHT
BEGIN:STANDARD
TZOFFSETFROM:-0700
TZOFFSETTO:-0800
TZNAME:PST
DTSTART:20241103T090000
END:STANDARD
END:VTIMEZONE
BEGIN:VEVENT
DTSTART;TZID=America/Edmonton:20230901T110000
DTEND;TZID=America/Edmonton:20230901T120000
DTSTAMP:20260424T113039
CREATED:20230904T061210Z
LAST-MODIFIED:20230904T061210Z
UID:751-1693566000-1693569600@dougrobbmusic.com
SUMMARY:Bountiful Market
DESCRIPTION:
URL:https://dougrobbmusic.com/event/bountiful-market-2/
LOCATION:Bountiful Market\, 3696 97 Street\, Edmonton\, Alberta\, T6E5N2\, Canada
CATEGORIES:Doug Robb Acoustic Shows
ATTACH;FMTTYPE=image/png:https://dougrobbmusic.com/wp-content/uploads/2023/09/23.09.01-Bountiful-Market.png
END:VEVENT
BEGIN:VEVENT
DTSTART;TZID=America/Edmonton:20230906T114500
DTEND;TZID=America/Edmonton:20230906T124500
DTSTAMP:20260424T113039
CREATED:20230904T054724Z
LAST-MODIFIED:20230904T054908Z
UID:738-1694000700-1694004300@dougrobbmusic.com
SUMMARY:Summer Songs on Stephen Ave
DESCRIPTION:
URL:https://dougrobbmusic.com/event/summer-songs-on-stephen-ave-2/
LOCATION:Summer Songs on Stephen Ave\, 1st Street SW and Stephen Ave\, Calgary\, Alberta\, T2P2W2\, Canada
CATEGORIES:Doug Robb Acoustic Shows
ATTACH;FMTTYPE=image/png:https://dougrobbmusic.com/wp-content/uploads/2023/09/Summer-Songs-on-Stephen-Avenue1.png
END:VEVENT
BEGIN:VEVENT
DTSTART;TZID=America/Edmonton:20230913T150000
DTEND;TZID=America/Edmonton:20230913T190000
DTSTAMP:20260424T113039
CREATED:20230904T070501Z
LAST-MODIFIED:20230904T070501Z
UID:780-1694617200-1694631600@dougrobbmusic.com
SUMMARY:Castle Downs Farmers Market
DESCRIPTION:
URL:https://dougrobbmusic.com/event/castle-downs-farmers-market-3/
LOCATION:Castle Downs Farmers Market\, 11520 153 Ave NW\, Edmonton\, Alberta\, T5X5S5\, Canada
CATEGORIES:Doug Robb Acoustic Shows
ATTACH;FMTTYPE=image/png:https://dougrobbmusic.com/wp-content/uploads/2023/09/23.09.13-castle-downs-farmers-market.png
END:VEVENT
BEGIN:VEVENT
DTSTART;TZID=America/Edmonton:20230914T180000
DTEND;TZID=America/Edmonton:20230914T200000
DTSTAMP:20260424T113039
CREATED:20230904T063204Z
LAST-MODIFIED:20230904T063204Z
UID:761-1694714400-1694721600@dougrobbmusic.com
SUMMARY:The Public
DESCRIPTION:
URL:https://dougrobbmusic.com/event/the-public-6/
LOCATION:The Public Market\, Manchester Square - 108 Ave & 124 Street\, Edmonton\, Alberta\, T5H2Y6\, Canada
CATEGORIES:Doug Robb Acoustic Shows
ATTACH;FMTTYPE=image/png:https://dougrobbmusic.com/wp-content/uploads/2023/09/23.09.14-The-Public-Market.png
END:VEVENT
BEGIN:VEVENT
DTSTART;TZID=America/Edmonton:20230915T110000
DTEND;TZID=America/Edmonton:20230915T120000
DTSTAMP:20260424T113039
CREATED:20230904T063654Z
LAST-MODIFIED:20230904T063654Z
UID:764-1694775600-1694779200@dougrobbmusic.com
SUMMARY:Bountiful Market
DESCRIPTION:
URL:https://dougrobbmusic.com/event/bountiful-market-3/
LOCATION:Bountiful Market\, 3696 97 Street\, Edmonton\, Alberta\, T6E5N2\, Canada
CATEGORIES:Doug Robb Acoustic Shows
ATTACH;FMTTYPE=image/png:https://dougrobbmusic.com/wp-content/uploads/2023/09/23.09.15-Bountiful-Market.png
END:VEVENT
BEGIN:VEVENT
DTSTART;TZID=America/Edmonton:20230916T150000
DTEND;TZID=America/Edmonton:20230916T190000
DTSTAMP:20260424T113039
CREATED:20230904T065312Z
LAST-MODIFIED:20230904T065312Z
UID:770-1694876400-1694890800@dougrobbmusic.com
SUMMARY:Backyard Birthday Celebration
DESCRIPTION:
URL:https://dougrobbmusic.com/event/backyard-birthday-celebration/
LOCATION:Backyard Birthday Celebration for Karen\, 8739 179 Street\, Edmonton\, Alberta\, Canada
CATEGORIES:Doug Robb Acoustic Shows
ATTACH;FMTTYPE=image/png:https://dougrobbmusic.com/wp-content/uploads/2023/09/23.09.16-Backyard-Birthday-Celebration.png
END:VEVENT
BEGIN:VEVENT
DTSTART;TZID=America/Edmonton:20230916T210000
DTEND;TZID=America/Edmonton:20230917T010000
DTSTAMP:20260424T113039
CREATED:20230904T064811Z
LAST-MODIFIED:20230904T064811Z
UID:767-1694898000-1694912400@dougrobbmusic.com
SUMMARY:Route 39 Public House
DESCRIPTION:
URL:https://dougrobbmusic.com/event/route-39-public-house-2/
LOCATION:Route 39\, 5010 50 Ave\, Calmar\, Alberta\, T0C0V0\, Canada
CATEGORIES:Doug Robb Acoustic Shows
ATTACH;FMTTYPE=image/png:https://dougrobbmusic.com/wp-content/uploads/2023/09/23.09.16-Route-39-public-house.png
END:VEVENT
BEGIN:VEVENT
DTSTART;TZID=America/Edmonton:20230917T130000
DTEND;TZID=America/Edmonton:20230917T150000
DTSTAMP:20260424T113039
CREATED:20230904T065622Z
LAST-MODIFIED:20230904T065622Z
UID:774-1694955600-1694962800@dougrobbmusic.com
SUMMARY:The Public
DESCRIPTION:
URL:https://dougrobbmusic.com/event/the-public-7/
LOCATION:The Public Market\, Manchester Square - 108 Ave & 124 Street\, Edmonton\, Alberta\, T5H2Y6\, Canada
CATEGORIES:Doug Robb Acoustic Shows
ATTACH;FMTTYPE=image/png:https://dougrobbmusic.com/wp-content/uploads/2023/09/23.09.17-The-Public-Market.png
END:VEVENT
BEGIN:VEVENT
DTSTART;TZID=America/Edmonton:20230921T180000
DTEND;TZID=America/Edmonton:20230921T210000
DTSTAMP:20260424T113039
CREATED:20230919T181342Z
LAST-MODIFIED:20230919T181342Z
UID:819-1695319200-1695330000@dougrobbmusic.com
SUMMARY:Block Party
DESCRIPTION:
URL:https://dougrobbmusic.com/event/block-party/
LOCATION:Block Party – Sherwood Park\, 22 Sapphire Cv\, Sherwood Park\, Alberta\, T8H2N8\, Canada
CATEGORIES:Doug Robb Acoustic Shows
ATTACH;FMTTYPE=image/png:https://dougrobbmusic.com/wp-content/uploads/2023/09/23.09.21-Block-Party.png
END:VEVENT
BEGIN:VEVENT
DTSTART;TZID=America/Edmonton:20230922T114500
DTEND;TZID=America/Edmonton:20230922T124500
DTSTAMP:20260424T113039
CREATED:20230904T071103Z
LAST-MODIFIED:20230904T071103Z
UID:786-1695383100-1695386700@dougrobbmusic.com
SUMMARY:Summer Songs on Stephen Ave
DESCRIPTION:
URL:https://dougrobbmusic.com/event/summer-songs-on-stephen-ave-4/
LOCATION:Summer Songs on Stephen Ave\, 1st Street SW and Stephen Ave\, Calgary\, Alberta\, T2P2W2\, Canada
CATEGORIES:Doug Robb Acoustic Shows
ATTACH;FMTTYPE=image/png:https://dougrobbmusic.com/wp-content/uploads/2023/09/23.09.22-Summer-Songs-on-Stephen-Avenue.png
END:VEVENT
BEGIN:VEVENT
DTSTART;TZID=America/Edmonton:20230922T160000
DTEND;TZID=America/Edmonton:20230922T180000
DTSTAMP:20260424T113039
CREATED:20230904T073421Z
LAST-MODIFIED:20230904T073421Z
UID:789-1695398400-1695405600@dougrobbmusic.com
SUMMARY:Busking on the Mile - East Village HQ Stage
DESCRIPTION:
URL:https://dougrobbmusic.com/event/busking-on-the-mile-east-village-hq-stage/
LOCATION:The Music Mile Society\, East Village HQ Stage - 9 Ave SE\, Calgary\, Alberta\, T2G0S9\, Canada
CATEGORIES:Doug Robb Acoustic Shows
ATTACH;FMTTYPE=image/png:https://dougrobbmusic.com/wp-content/uploads/2023/09/23.09.22-East-Village-HQ-Stage.png
END:VEVENT
BEGIN:VEVENT
DTSTART;TZID=America/Edmonton:20230929T160000
DTEND;TZID=America/Edmonton:20230929T190000
DTSTAMP:20260424T113039
CREATED:20230904T192004Z
LAST-MODIFIED:20230904T192504Z
UID:807-1696003200-1696014000@dougrobbmusic.com
SUMMARY:Mayfair Lakes Golf & Country Club - The Lakeside Grill
DESCRIPTION:
URL:https://dougrobbmusic.com/event/mayfair-lakes-golf-country-club-the-lakeside-grill/
LOCATION:Mayfair Lakes Golf & Country Club – The Lakeside Grill Restaurant\, 5460 No. 7 Road\, Richmond\, British Columbia\, V6V1R7\, Canada
CATEGORIES:Doug Robb Acoustic Shows
ATTACH;FMTTYPE=image/png:https://dougrobbmusic.com/wp-content/uploads/2023/09/Screenshot-2023-09-04-at-1.24.32-PM.png
END:VEVENT
BEGIN:VEVENT
DTSTART;TZID=America/Vancouver:20230930T190000
DTEND;TZID=America/Vancouver:20230930T210000
DTSTAMP:20260424T113039
CREATED:20230919T192240Z
LAST-MODIFIED:20230919T192240Z
UID:823-1696100400-1696107600@dougrobbmusic.com
SUMMARY:Carlin Hall
DESCRIPTION:
URL:https://dougrobbmusic.com/event/carlin-hall-2/
LOCATION:Carlin Hall\, 4051 Myers Frontage Road\, Tappen\, British Columbia\, V0E2X3\, Canada
CATEGORIES:Doug Robb Acoustic Shows
ATTACH;FMTTYPE=image/png:https://dougrobbmusic.com/wp-content/uploads/2023/09/23.09.30-Carlin-Hall-Tappen-BC.png
ORGANIZER;CN="The Next Level Entertainment Consulting Inc":MAILTO:info@tnlec.com
END:VEVENT
END:VCALENDAR