BEGIN:VCALENDAR
VERSION:2.0
PRODID:-//Doug Robb Music - ECPv6.15.20//NONSGML v1.0//EN
CALSCALE:GREGORIAN
METHOD:PUBLISH
X-WR-CALNAME:Doug Robb Music
X-ORIGINAL-URL:https://dougrobbmusic.com
X-WR-CALDESC:Events for Doug Robb Music
REFRESH-INTERVAL;VALUE=DURATION:PT1H
X-Robots-Tag:noindex
X-PUBLISHED-TTL:PT1H
BEGIN:VTIMEZONE
TZID:America/Edmonton
BEGIN:DAYLIGHT
TZOFFSETFROM:-0700
TZOFFSETTO:-0600
TZNAME:MDT
DTSTART:20220313T090000
END:DAYLIGHT
BEGIN:STANDARD
TZOFFSETFROM:-0600
TZOFFSETTO:-0700
TZNAME:MST
DTSTART:20221106T080000
END:STANDARD
BEGIN:DAYLIGHT
TZOFFSETFROM:-0700
TZOFFSETTO:-0600
TZNAME:MDT
DTSTART:20230312T090000
END:DAYLIGHT
BEGIN:STANDARD
TZOFFSETFROM:-0600
TZOFFSETTO:-0700
TZNAME:MST
DTSTART:20231105T080000
END:STANDARD
BEGIN:DAYLIGHT
TZOFFSETFROM:-0700
TZOFFSETTO:-0600
TZNAME:MDT
DTSTART:20240310T090000
END:DAYLIGHT
BEGIN:STANDARD
TZOFFSETFROM:-0600
TZOFFSETTO:-0700
TZNAME:MST
DTSTART:20241103T080000
END:STANDARD
END:VTIMEZONE
BEGIN:VEVENT
DTSTART;TZID=America/Edmonton:20231110T200000
DTEND;TZID=America/Edmonton:20231111T200000
DTSTAMP:20260424T082505
CREATED:20230904T062916Z
LAST-MODIFIED:20230904T062916Z
UID:758-1699646400-1699732800@dougrobbmusic.com
SUMMARY:The East Coast Junction
DESCRIPTION:
URL:https://dougrobbmusic.com/event/the-east-coast-junction-2/
LOCATION:The East Coast Junction\, 10650 Winterburn Rd\, Edmonton\, Alberta\, T5S2C4\, Canada
CATEGORIES:Doug Robb Acoustic Shows
ATTACH;FMTTYPE=image/png:https://dougrobbmusic.com/wp-content/uploads/2023/09/23.11.10-THE-EAST-COAST-JUNCTION.png
END:VEVENT
BEGIN:VEVENT
DTSTART;TZID=America/Edmonton:20231119T110000
DTEND;TZID=America/Edmonton:20231119T133000
DTSTAMP:20260424T082505
CREATED:20231114T081909Z
LAST-MODIFIED:20231114T083611Z
UID:887-1700391600-1700400600@dougrobbmusic.com
SUMMARY:Bountiful Market
DESCRIPTION:
URL:https://dougrobbmusic.com/event/bountiful-market-3-2/
LOCATION:Bountiful Market\, 3696 97 Street\, Edmonton\, Alberta\, T6E5N2\, Canada
CATEGORIES:Doug Robb Acoustic Shows
ATTACH;FMTTYPE=image/png:https://dougrobbmusic.com/wp-content/uploads/2023/11/23.11.19-Bountiful-Market-1.png
ORGANIZER;CN="The Next Level Entertainment Consulting Inc":MAILTO:info@tnlec.com
END:VEVENT
BEGIN:VEVENT
DTSTART;TZID=America/Edmonton:20231121T210000
DTEND;TZID=America/Edmonton:20231122T003000
DTSTAMP:20260424T082505
CREATED:20230919T205635Z
LAST-MODIFIED:20230919T205635Z
UID:842-1700600400-1700613000@dougrobbmusic.com
SUMMARY:Whistle Stop Pub
DESCRIPTION:
URL:https://dougrobbmusic.com/event/whistle-stop-pub/
LOCATION:Whistle Stop Pub\, 105 Miette Avenue\, Jasper\, Alberta\, T0E1E0\, Canada
CATEGORIES:Doug Robb Acoustic Shows
ATTACH;FMTTYPE=image/png:https://dougrobbmusic.com/wp-content/uploads/2023/09/23.11.21-Whistle-Stop-Pub.png
ORGANIZER;CN="The Next Level Entertainment Consulting Inc":MAILTO:info@tnlec.com
END:VEVENT
BEGIN:VEVENT
DTSTART;TZID=America/Edmonton:20231122T210000
DTEND;TZID=America/Edmonton:20231123T003000
DTSTAMP:20260424T082505
CREATED:20230919T205844Z
LAST-MODIFIED:20230919T205844Z
UID:845-1700686800-1700699400@dougrobbmusic.com
SUMMARY:Whistle Stop Pub
DESCRIPTION:
URL:https://dougrobbmusic.com/event/whistle-stop-pub-2/
LOCATION:Whistle Stop Pub\, 105 Miette Avenue\, Jasper\, Alberta\, T0E1E0\, Canada
CATEGORIES:Doug Robb Acoustic Shows
ATTACH;FMTTYPE=image/png:https://dougrobbmusic.com/wp-content/uploads/2023/09/23.11.22-Whistle-Stop-Pub.png
ORGANIZER;CN="The Next Level Entertainment Consulting Inc":MAILTO:info@tnlec.com
END:VEVENT
BEGIN:VEVENT
DTSTART;TZID=America/Edmonton:20231123T190000
DTEND;TZID=America/Edmonton:20231123T210000
DTSTAMP:20260424T082505
CREATED:20231114T080832Z
LAST-MODIFIED:20231114T080832Z
UID:883-1700766000-1700773200@dougrobbmusic.com
SUMMARY:Snake Lake Brewing Company
DESCRIPTION:
URL:https://dougrobbmusic.com/event/snake-lake-brewing-company/
LOCATION:Snake Lake Brewing Company\, 26 Industrial Drive\, Sylvan Lake\, Alberta\, T4S 1P5\, Canada
CATEGORIES:Doug Robb Acoustic Shows
ATTACH;FMTTYPE=image/png:https://dougrobbmusic.com/wp-content/uploads/2023/11/23.11.23-Snake-Lake-Brewing-Company.png
ORGANIZER;CN="The Next Level Entertainment Consulting Inc":MAILTO:info@tnlec.com
END:VEVENT
BEGIN:VEVENT
DTSTART;TZID=America/Edmonton:20231124T190000
DTEND;TZID=America/Edmonton:20231124T233000
DTSTAMP:20260424T082505
CREATED:20231114T090143Z
LAST-MODIFIED:20231114T090143Z
UID:891-1700852400-1700868600@dougrobbmusic.com
SUMMARY:Zee Bar & Grill
DESCRIPTION:
URL:https://dougrobbmusic.com/event/zee-bar-grill/
LOCATION:Zee Bar & Grill\, 240 Stony Mountain Road\, Anzac\, Alberta\, T0P 1J0\, Canada
CATEGORIES:Doug Robb Acoustic Shows
ATTACH;FMTTYPE=image/png:https://dougrobbmusic.com/wp-content/uploads/2023/11/23.11.24-Zee-Bar-Grill.png
ORGANIZER;CN="The Next Level Entertainment Consulting Inc":MAILTO:info@tnlec.com
END:VEVENT
BEGIN:VEVENT
DTSTART;TZID=America/Edmonton:20231125T183000
DTEND;TZID=America/Edmonton:20231125T193000
DTSTAMP:20260424T082505
CREATED:20231114T091902Z
LAST-MODIFIED:20231114T091902Z
UID:895-1700937000-1700940600@dougrobbmusic.com
SUMMARY:Rotary House Senior's Lodge
DESCRIPTION:
URL:https://dougrobbmusic.com/event/rotary-house-seniors-lodge/
LOCATION:Rotary House Senior’s Lodge\, 10116 Fraser Ave\, Fort McMurray\, Alberta\, T9H 5E9\, Canada
CATEGORIES:Doug Robb Acoustic Shows
ATTACH;FMTTYPE=image/png:https://dougrobbmusic.com/wp-content/uploads/2023/11/23.11.25-Rotary-House-Seniors-Lodge.png
END:VEVENT
BEGIN:VEVENT
DTSTART;TZID=America/Edmonton:20231125T210000
DTEND;TZID=America/Edmonton:20231126T000000
DTSTAMP:20260424T082505
CREATED:20231114T003745Z
LAST-MODIFIED:20231114T003745Z
UID:879-1700946000-1700956800@dougrobbmusic.com
SUMMARY:Tavern on Main
DESCRIPTION:
URL:https://dougrobbmusic.com/event/tavern-on-main/
LOCATION:Tavern on Main\, 9708 Main Street\, Fort McMurray\, Alberta\, T9H 1T6\, Canada
CATEGORIES:Doug Robb Acoustic Shows
ATTACH;FMTTYPE=image/png:https://dougrobbmusic.com/wp-content/uploads/2023/11/23.11.25-TAVERN-ON-MAIN.png
ORGANIZER;CN="The Next Level Entertainment Consulting Inc":MAILTO:info@tnlec.com
END:VEVENT
END:VCALENDAR