BEGIN:VCALENDAR
VERSION:2.0
PRODID:-//Doug Robb Music - ECPv6.15.20//NONSGML v1.0//EN
CALSCALE:GREGORIAN
METHOD:PUBLISH
X-ORIGINAL-URL:https://dougrobbmusic.com
X-WR-CALDESC:Events for Doug Robb Music
REFRESH-INTERVAL;VALUE=DURATION:PT1H
X-Robots-Tag:noindex
X-PUBLISHED-TTL:PT1H
BEGIN:VTIMEZONE
TZID:America/Edmonton
BEGIN:DAYLIGHT
TZOFFSETFROM:-0700
TZOFFSETTO:-0600
TZNAME:MDT
DTSTART:20220313T090000
END:DAYLIGHT
BEGIN:STANDARD
TZOFFSETFROM:-0600
TZOFFSETTO:-0700
TZNAME:MST
DTSTART:20221106T080000
END:STANDARD
BEGIN:DAYLIGHT
TZOFFSETFROM:-0700
TZOFFSETTO:-0600
TZNAME:MDT
DTSTART:20230312T090000
END:DAYLIGHT
BEGIN:STANDARD
TZOFFSETFROM:-0600
TZOFFSETTO:-0700
TZNAME:MST
DTSTART:20231105T080000
END:STANDARD
BEGIN:DAYLIGHT
TZOFFSETFROM:-0700
TZOFFSETTO:-0600
TZNAME:MDT
DTSTART:20240310T090000
END:DAYLIGHT
BEGIN:STANDARD
TZOFFSETFROM:-0600
TZOFFSETTO:-0700
TZNAME:MST
DTSTART:20241103T080000
END:STANDARD
END:VTIMEZONE
BEGIN:VEVENT
DTSTART;TZID=America/Edmonton:20231208T180000
DTEND;TZID=America/Edmonton:20231208T230000
DTSTAMP:20260424T065745
CREATED:20231114T092818Z
LAST-MODIFIED:20231114T092818Z
UID:899-1702058400-1702076400@dougrobbmusic.com
SUMMARY:Private Function - Christmas Party - Streetside Developments
DESCRIPTION:
URL:https://dougrobbmusic.com/event/private-function-christmas-party-streetside-developments/
LOCATION:Alberta
CATEGORIES:Doug Robb Acoustic Shows
ATTACH;FMTTYPE=image/png:https://dougrobbmusic.com/wp-content/uploads/2023/11/23.12.08-Streetside-Developments-Private-Christmas-Party.png
ORGANIZER;CN="The Next Level Entertainment Consulting Inc":MAILTO:info@tnlec.com
END:VEVENT
BEGIN:VEVENT
DTSTART;TZID=America/Edmonton:20231213T163000
DTEND;TZID=America/Edmonton:20231213T200000
DTSTAMP:20260424T065745
CREATED:20231211T074519Z
LAST-MODIFIED:20231211T074519Z
UID:906-1702485000-1702497600@dougrobbmusic.com
SUMMARY:Glow Saskatoon 2023
DESCRIPTION:
URL:https://dougrobbmusic.com/event/glow-saskatoon-2023/
LOCATION:Glow Saskatoon\, 503 Ruth Street West\, Saskatoon\, Saskatchewan\, SK S7K 4E4\, Canada
CATEGORIES:Doug Robb Acoustic Shows
ATTACH;FMTTYPE=image/png:https://dougrobbmusic.com/wp-content/uploads/2023/12/23.12.13-Glow-Saskatoon.png
ORGANIZER;CN="The Next Level Entertainment Consulting Inc":MAILTO:info@tnlec.com
END:VEVENT
BEGIN:VEVENT
DTSTART;TZID=America/Edmonton:20231214T163000
DTEND;TZID=America/Edmonton:20231214T200000
DTSTAMP:20260424T065745
CREATED:20231211T074650Z
LAST-MODIFIED:20231211T074650Z
UID:917-1702571400-1702584000@dougrobbmusic.com
SUMMARY:Glow Saskatoon 2023
DESCRIPTION:
URL:https://dougrobbmusic.com/event/glow-saskatoon-2023-2/
LOCATION:Glow Saskatoon\, 503 Ruth Street West\, Saskatoon\, Saskatchewan\, SK S7K 4E4\, Canada
CATEGORIES:Doug Robb Acoustic Shows
ATTACH;FMTTYPE=image/png:https://dougrobbmusic.com/wp-content/uploads/2023/12/23.12.14-Glow-Saskatoon.png
ORGANIZER;CN="The Next Level Entertainment Consulting Inc":MAILTO:info@tnlec.com
END:VEVENT
BEGIN:VEVENT
DTSTART;TZID=America/Edmonton:20231216T170000
DTEND;TZID=America/Edmonton:20231216T180000
DTSTAMP:20260424T065745
CREATED:20231211T075637Z
LAST-MODIFIED:20231211T075637Z
UID:929-1702746000-1702749600@dougrobbmusic.com
SUMMARY:Edmonton Christmas Market
DESCRIPTION:
URL:https://dougrobbmusic.com/event/edmonton-christmas-market/
LOCATION:Fort Edmonton Park\, 7000 143 Street\, Edmonton\, Alberta\, T6H 4P3\, Canada
CATEGORIES:Doug Robb Acoustic Shows
ATTACH;FMTTYPE=image/png:https://dougrobbmusic.com/wp-content/uploads/2023/12/23.12.16-Edmonton-Christmas-Market-Fort-Edmonton.png
ORGANIZER;CN="The Next Level Entertainment Consulting Inc":MAILTO:info@tnlec.com
END:VEVENT
BEGIN:VEVENT
DTSTART;TZID=America/Edmonton:20231220T170000
DTEND;TZID=America/Edmonton:20231220T210000
DTSTAMP:20260424T065745
CREATED:20231211T074749Z
LAST-MODIFIED:20231211T074749Z
UID:919-1703091600-1703106000@dougrobbmusic.com
SUMMARY:Glow Saskatoon 2023
DESCRIPTION:
URL:https://dougrobbmusic.com/event/glow-saskatoon-2023-3/
LOCATION:Glow Saskatoon\, 503 Ruth Street West\, Saskatoon\, Saskatchewan\, SK S7K 4E4\, Canada
CATEGORIES:Doug Robb Acoustic Shows
ATTACH;FMTTYPE=image/png:https://dougrobbmusic.com/wp-content/uploads/2023/12/23.12.20-Glow-Saskatoon.png
ORGANIZER;CN="The Next Level Entertainment Consulting Inc":MAILTO:info@tnlec.com
END:VEVENT
BEGIN:VEVENT
DTSTART;TZID=America/Edmonton:20231221T161500
DTEND;TZID=America/Edmonton:20231221T220000
DTSTAMP:20260424T065745
CREATED:20231211T074844Z
LAST-MODIFIED:20231211T074844Z
UID:921-1703175300-1703196000@dougrobbmusic.com
SUMMARY:Glow Saskatoon 2023
DESCRIPTION:
URL:https://dougrobbmusic.com/event/glow-saskatoon-2023-4/
LOCATION:Glow Saskatoon\, 503 Ruth Street West\, Saskatoon\, Saskatchewan\, SK S7K 4E4\, Canada
CATEGORIES:Doug Robb Acoustic Shows
ATTACH;FMTTYPE=image/png:https://dougrobbmusic.com/wp-content/uploads/2023/12/23.12.21-Glow-Saskatoon.png
ORGANIZER;CN="The Next Level Entertainment Consulting Inc":MAILTO:info@tnlec.com
END:VEVENT
BEGIN:VEVENT
DTSTART;TZID=America/Edmonton:20231222T190000
DTEND;TZID=America/Edmonton:20231222T233000
DTSTAMP:20260424T065745
CREATED:20231114T093338Z
LAST-MODIFIED:20231114T093338Z
UID:902-1703271600-1703287800@dougrobbmusic.com
SUMMARY:The Bears Den
DESCRIPTION:
URL:https://dougrobbmusic.com/event/the-bears-den-2/
LOCATION:The Bears Den\, 9923 102 Street\, Fort Saskatchewan\, Alberta\, T8L 2C4\, Canada
CATEGORIES:Doug Robb Acoustic Shows
ATTACH;FMTTYPE=image/png:https://dougrobbmusic.com/wp-content/uploads/2023/11/23.12.22-Bears-Den-Fort-Saskatchewan.png
ORGANIZER;CN="The Next Level Entertainment Consulting Inc":MAILTO:info@tnlec.com
END:VEVENT
BEGIN:VEVENT
DTSTART;TZID=America/Edmonton:20231223T190000
DTEND;TZID=America/Edmonton:20231224T223000
DTSTAMP:20260424T065745
CREATED:20230919T203516Z
LAST-MODIFIED:20230919T203516Z
UID:828-1703358000-1703457000@dougrobbmusic.com
SUMMARY:The East Coast Junction - Tibb's Eve Party
DESCRIPTION:
URL:https://dougrobbmusic.com/event/the-east-coast-junction-tibbs-eve-party/
LOCATION:The East Coast Junction\, 10650 Winterburn Rd\, Edmonton\, Alberta\, T5S2C4\, Canada
CATEGORIES:Doug Robb Acoustic Shows
ATTACH;FMTTYPE=image/png:https://dougrobbmusic.com/wp-content/uploads/2023/09/23.12.23-THE-EAST-COAST-JUNCTION.png
ORGANIZER;CN="The Next Level Entertainment Consulting Inc":MAILTO:info@tnlec.com
END:VEVENT
BEGIN:VEVENT
DTSTART;TZID=America/Edmonton:20231227T161500
DTEND;TZID=America/Edmonton:20231227T194500
DTSTAMP:20260424T065745
CREATED:20231211T075012Z
LAST-MODIFIED:20231211T075012Z
UID:923-1703693700-1703706300@dougrobbmusic.com
SUMMARY:Glow Saskatoon 2023
DESCRIPTION:
URL:https://dougrobbmusic.com/event/glow-saskatoon-2023-5/
LOCATION:Glow Saskatoon\, 503 Ruth Street West\, Saskatoon\, Saskatchewan\, SK S7K 4E4\, Canada
CATEGORIES:Doug Robb Acoustic Shows
ATTACH;FMTTYPE=image/png:https://dougrobbmusic.com/wp-content/uploads/2023/12/23.12.27-Glow-Saskatoon.png
ORGANIZER;CN="The Next Level Entertainment Consulting Inc":MAILTO:info@tnlec.com
END:VEVENT
BEGIN:VEVENT
DTSTART;TZID=America/Edmonton:20231228T123000
DTEND;TZID=America/Edmonton:20231228T160000
DTSTAMP:20260424T065745
CREATED:20231211T075120Z
LAST-MODIFIED:20231211T075120Z
UID:925-1703766600-1703779200@dougrobbmusic.com
SUMMARY:Glow Saskatoon 2023
DESCRIPTION:
URL:https://dougrobbmusic.com/event/glow-saskatoon-2023-6/
LOCATION:Glow Saskatoon\, 503 Ruth Street West\, Saskatoon\, Saskatchewan\, SK S7K 4E4\, Canada
CATEGORIES:Doug Robb Acoustic Shows
ATTACH;FMTTYPE=image/png:https://dougrobbmusic.com/wp-content/uploads/2023/12/23.12.28-Glow-Saskatoon.png
ORGANIZER;CN="The Next Level Entertainment Consulting Inc":MAILTO:info@tnlec.com
END:VEVENT
BEGIN:VEVENT
DTSTART;TZID=America/Edmonton:20231230T123000
DTEND;TZID=America/Edmonton:20231230T194500
DTSTAMP:20260424T065745
CREATED:20231211T075221Z
LAST-MODIFIED:20231211T075221Z
UID:927-1703939400-1703965500@dougrobbmusic.com
SUMMARY:Glow Saskatoon 2023
DESCRIPTION:
URL:https://dougrobbmusic.com/event/glow-saskatoon-2023-7/
LOCATION:Glow Saskatoon\, 503 Ruth Street West\, Saskatoon\, Saskatchewan\, SK S7K 4E4\, Canada
CATEGORIES:Doug Robb Acoustic Shows
ATTACH;FMTTYPE=image/png:https://dougrobbmusic.com/wp-content/uploads/2023/12/23.12.30-Glow-Saskatoon.png
ORGANIZER;CN="The Next Level Entertainment Consulting Inc":MAILTO:info@tnlec.com
END:VEVENT
END:VCALENDAR