BEGIN:VCALENDAR
VERSION:2.0
PRODID:-//Doug Robb Music - ECPv6.15.20//NONSGML v1.0//EN
CALSCALE:GREGORIAN
METHOD:PUBLISH
X-ORIGINAL-URL:https://dougrobbmusic.com
X-WR-CALDESC:Events for Doug Robb Music
REFRESH-INTERVAL;VALUE=DURATION:PT1H
X-Robots-Tag:noindex
X-PUBLISHED-TTL:PT1H
BEGIN:VTIMEZONE
TZID:America/Edmonton
BEGIN:DAYLIGHT
TZOFFSETFROM:-0700
TZOFFSETTO:-0600
TZNAME:MDT
DTSTART:20230312T090000
END:DAYLIGHT
BEGIN:STANDARD
TZOFFSETFROM:-0600
TZOFFSETTO:-0700
TZNAME:MST
DTSTART:20231105T080000
END:STANDARD
BEGIN:DAYLIGHT
TZOFFSETFROM:-0700
TZOFFSETTO:-0600
TZNAME:MDT
DTSTART:20240310T090000
END:DAYLIGHT
BEGIN:STANDARD
TZOFFSETFROM:-0600
TZOFFSETTO:-0700
TZNAME:MST
DTSTART:20241103T080000
END:STANDARD
BEGIN:DAYLIGHT
TZOFFSETFROM:-0700
TZOFFSETTO:-0600
TZNAME:MDT
DTSTART:20250309T090000
END:DAYLIGHT
BEGIN:STANDARD
TZOFFSETFROM:-0600
TZOFFSETTO:-0700
TZNAME:MST
DTSTART:20251102T080000
END:STANDARD
END:VTIMEZONE
BEGIN:VEVENT
DTSTART;TZID=America/Edmonton:20240104T183000
DTEND;TZID=America/Edmonton:20240104T203000
DTSTAMP:20260424T052623
CREATED:20240104T072742Z
LAST-MODIFIED:20240104T072742Z
UID:945-1704393000-1704400200@dougrobbmusic.com
SUMMARY:Grist & Mash Brewery
DESCRIPTION:
URL:https://dougrobbmusic.com/event/grist-mash-brewery/
LOCATION:Grist & Mash Brewery\, 345 Wallinger Ave\, Kimberley\, British Columbia\, V1A1Z3\, Canada
CATEGORIES:Doug Robb Acoustic Shows
ATTACH;FMTTYPE=image/png:https://dougrobbmusic.com/wp-content/uploads/2023/12/24.01.04-Grist-Mash-Brewery-Kimberley-BC.png
ORGANIZER;CN="The Next Level Entertainment Consulting Inc":MAILTO:info@tnlec.com
END:VEVENT
BEGIN:VEVENT
DTSTART;TZID=America/Edmonton:20240105T190000
DTEND;TZID=America/Edmonton:20240105T220000
DTSTAMP:20260424T052623
CREATED:20240104T073747Z
LAST-MODIFIED:20240104T073914Z
UID:948-1704481200-1704492000@dougrobbmusic.com
SUMMARY:Frisky Whisky Cocktails & Kitchen
DESCRIPTION:
URL:https://dougrobbmusic.com/event/frisky-whisky-cocktails-kitchen/
LOCATION:Frisky Whisky Cocktails & Kitchen\, 1117 Canyon Street\, Creston\, British Columbia\, V0B1G0\, Canada
CATEGORIES:Doug Robb Acoustic Shows
ATTACH;FMTTYPE=image/png:https://dougrobbmusic.com/wp-content/uploads/2023/12/24.01.05-Frisky-Whisky-Creston.png
ORGANIZER;CN="The Next Level Entertainment Consulting Inc":MAILTO:info@tnlec.com
END:VEVENT
BEGIN:VEVENT
DTSTART;TZID=America/Edmonton:20240106T200000
DTEND;TZID=America/Edmonton:20240106T230000
DTSTAMP:20260424T052623
CREATED:20240104T074348Z
LAST-MODIFIED:20240104T074348Z
UID:951-1704571200-1704582000@dougrobbmusic.com
SUMMARY:Morrisey’s Public House
DESCRIPTION:
URL:https://dougrobbmusic.com/event/morriseys-public-house/
LOCATION:Morrisey’s Public House\, 3240 Village Way\, Sun Peaks Grand Hotel\, Sun Peaks\, British Columbia\, V0E5N0\, Canada
CATEGORIES:Doug Robb Acoustic Shows
ATTACH;FMTTYPE=image/png:https://dougrobbmusic.com/wp-content/uploads/2023/12/24.01.06-Morriseys-Public-House-Sun-Peaks-BC.png
ORGANIZER;CN="The Next Level Entertainment Consulting Inc":MAILTO:info@tnlec.com
END:VEVENT
BEGIN:VEVENT
DTSTART;TZID=America/Edmonton:20240109T220000
DTEND;TZID=America/Edmonton:20240110T013000
DTSTAMP:20260424T052623
CREATED:20240104T074639Z
LAST-MODIFIED:20240104T074639Z
UID:954-1704837600-1704850200@dougrobbmusic.com
SUMMARY:Rose and Crown
DESCRIPTION:
URL:https://dougrobbmusic.com/event/rose-and-crown-3-2/
LOCATION:Rose and Crown\, 202 Banff Ave\, Banff\, Alberta\, T1L1B5\, Canada
CATEGORIES:Doug Robb Acoustic Shows
ATTACH;FMTTYPE=image/png:https://dougrobbmusic.com/wp-content/uploads/2023/12/24.01.09-Rose-and-Crown-Banff.png
ORGANIZER;CN="The Next Level Entertainment Consulting Inc":MAILTO:info@tnlec.com
END:VEVENT
BEGIN:VEVENT
DTSTART;TZID=America/Edmonton:20240119T110000
DTEND;TZID=America/Edmonton:20240119T133000
DTSTAMP:20260424T052623
CREATED:20240104T074854Z
LAST-MODIFIED:20240104T074854Z
UID:956-1705662000-1705671000@dougrobbmusic.com
SUMMARY:Bountiful Market
DESCRIPTION:
URL:https://dougrobbmusic.com/event/bountiful-market-3-2-2/
LOCATION:Bountiful Market\, 3696 97 Street\, Edmonton\, Alberta\, T6E5N2\, Canada
CATEGORIES:Doug Robb Acoustic Shows
ATTACH;FMTTYPE=image/png:https://dougrobbmusic.com/wp-content/uploads/2023/12/24.1.19-Bountiful-Market.png
ORGANIZER;CN="The Next Level Entertainment Consulting Inc":MAILTO:info@tnlec.com
END:VEVENT
BEGIN:VEVENT
DTSTART;TZID=America/Edmonton:20240119T190000
DTEND;TZID=America/Edmonton:20240119T210000
DTSTAMP:20260424T052623
CREATED:20240104T075823Z
LAST-MODIFIED:20240104T075823Z
UID:958-1705690800-1705698000@dougrobbmusic.com
SUMMARY:Higher Ground Cafe Kensington
DESCRIPTION:
URL:https://dougrobbmusic.com/event/higher-ground-cafe-kensington-2/
LOCATION:Higher Ground Cafe Kensington\, 1126 Kensington Rd NW\, Calgary\, Alberta\, T2N 3P3\, Canada
CATEGORIES:Doug Robb Acoustic Shows
ATTACH;FMTTYPE=image/png:https://dougrobbmusic.com/wp-content/uploads/2024/01/24.01.19-Higher-Ground-Cafe-Kensington-Calgary.png
ORGANIZER;CN="The Next Level Entertainment Consulting Inc":MAILTO:info@tnlec.com
END:VEVENT
BEGIN:VEVENT
DTSTART;TZID=America/Edmonton:20240120T190000
DTEND;TZID=America/Edmonton:20240120T210000
DTSTAMP:20260424T052623
CREATED:20231231T061641Z
LAST-MODIFIED:20231231T061641Z
UID:937-1705777200-1705784400@dougrobbmusic.com
SUMMARY:The Mash - Legacy
DESCRIPTION:
URL:https://dougrobbmusic.com/event/the-mash-legacy-2/
LOCATION:The Mash – Legacy\, 20 Longview Common SE#610\, Calgary\, Alberta\, T2X0M7\, Canada
CATEGORIES:Doug Robb Acoustic Shows
ATTACH;FMTTYPE=image/png:https://dougrobbmusic.com/wp-content/uploads/2023/12/24.01.20-The-Mash-Legacy-Calgary.png
END:VEVENT
END:VCALENDAR