BEGIN:VCALENDAR
VERSION:2.0
PRODID:-//Doug Robb Music - ECPv6.15.20//NONSGML v1.0//EN
CALSCALE:GREGORIAN
METHOD:PUBLISH
X-WR-CALNAME:Doug Robb Music
X-ORIGINAL-URL:https://dougrobbmusic.com
X-WR-CALDESC:Events for Doug Robb Music
REFRESH-INTERVAL;VALUE=DURATION:PT1H
X-Robots-Tag:noindex
X-PUBLISHED-TTL:PT1H
BEGIN:VTIMEZONE
TZID:America/Edmonton
BEGIN:DAYLIGHT
TZOFFSETFROM:-0700
TZOFFSETTO:-0600
TZNAME:MDT
DTSTART:20230312T090000
END:DAYLIGHT
BEGIN:STANDARD
TZOFFSETFROM:-0600
TZOFFSETTO:-0700
TZNAME:MST
DTSTART:20231105T080000
END:STANDARD
BEGIN:DAYLIGHT
TZOFFSETFROM:-0700
TZOFFSETTO:-0600
TZNAME:MDT
DTSTART:20240310T090000
END:DAYLIGHT
BEGIN:STANDARD
TZOFFSETFROM:-0600
TZOFFSETTO:-0700
TZNAME:MST
DTSTART:20241103T080000
END:STANDARD
BEGIN:DAYLIGHT
TZOFFSETFROM:-0700
TZOFFSETTO:-0600
TZNAME:MDT
DTSTART:20250309T090000
END:DAYLIGHT
BEGIN:STANDARD
TZOFFSETFROM:-0600
TZOFFSETTO:-0700
TZNAME:MST
DTSTART:20251102T080000
END:STANDARD
END:VTIMEZONE
BEGIN:VEVENT
DTSTART;TZID=America/Edmonton:20240306T210000
DTEND;TZID=America/Edmonton:20240307T003000
DTSTAMP:20260424T023827
CREATED:20240305T004115Z
LAST-MODIFIED:20240305T004115Z
UID:1017-1709758800-1709771400@dougrobbmusic.com
SUMMARY:Whistle Stop Pub
DESCRIPTION:
URL:https://dougrobbmusic.com/event/whistle-stop-pub-2-2/
LOCATION:Whistle Stop Pub\, 105 Miette Avenue\, Jasper\, Alberta\, T0E1E0\, Canada
CATEGORIES:Doug Robb Acoustic Shows
ATTACH;FMTTYPE=image/png:https://dougrobbmusic.com/wp-content/uploads/2024/02/24.03.06-Whistle-Stop-Pub.png
ORGANIZER;CN="The Next Level Entertainment Consulting Inc":MAILTO:info@tnlec.com
END:VEVENT
BEGIN:VEVENT
DTSTART;TZID=America/Edmonton:20240307T210000
DTEND;TZID=America/Edmonton:20240308T003000
DTSTAMP:20260424T023827
CREATED:20240305T004158Z
LAST-MODIFIED:20240305T004158Z
UID:1019-1709845200-1709857800@dougrobbmusic.com
SUMMARY:Whistle Stop Pub
DESCRIPTION:
URL:https://dougrobbmusic.com/event/whistle-stop-pub-3/
LOCATION:Whistle Stop Pub\, 105 Miette Avenue\, Jasper\, Alberta\, T0E1E0\, Canada
CATEGORIES:Doug Robb Acoustic Shows
ATTACH;FMTTYPE=image/png:https://dougrobbmusic.com/wp-content/uploads/2024/02/24.03.07-Whistle-Stop-Pub.png
ORGANIZER;CN="The Next Level Entertainment Consulting Inc":MAILTO:info@tnlec.com
END:VEVENT
BEGIN:VEVENT
DTSTART;TZID=America/Edmonton:20240315T190000
DTEND;TZID=America/Edmonton:20240315T210000
DTSTAMP:20260424T023827
CREATED:20240213T110516Z
LAST-MODIFIED:20240213T110516Z
UID:998-1710529200-1710536400@dougrobbmusic.com
SUMMARY:Higher Ground Cafe Kensington
DESCRIPTION:
URL:https://dougrobbmusic.com/event/higher-ground-cafe-kensington-2-2/
LOCATION:Higher Ground Cafe Kensington\, 1126 Kensington Rd NW\, Calgary\, Alberta\, T2N 3P3\, Canada
CATEGORIES:Doug Robb Acoustic Shows
ATTACH;FMTTYPE=image/png:https://dougrobbmusic.com/wp-content/uploads/2024/02/24.03.15-Higher-Ground-Cafe-Kensington-Calgary.png
ORGANIZER;CN="The Next Level Entertainment Consulting Inc":MAILTO:info@tnlec.com
END:VEVENT
BEGIN:VEVENT
DTSTART;TZID=America/Edmonton:20240316T120000
DTEND;TZID=America/Edmonton:20240316T130000
DTSTAMP:20260424T023827
CREATED:20240314T034001Z
LAST-MODIFIED:20240314T034001Z
UID:1029-1710590400-1710594000@dougrobbmusic.com
SUMMARY:Acoustic Cafe Series Presents: Singer/Songwriter Doug Robb
DESCRIPTION:
URL:https://dougrobbmusic.com/event/acoustic-cafe-series-presents-singer-songwriter-doug-robb/
LOCATION:Second Cup Southland Drive SW\, 1919 Southland Dr SW\, Calgary\, Alberta\, T2W 0K1\, Canada
CATEGORIES:Doug Robb Acoustic Shows
ATTACH;FMTTYPE=image/png:https://dougrobbmusic.com/wp-content/uploads/2024/03/24.03.16-Second-Cup-Southland-Drive-SW-Calgary.png
ORGANIZER;CN="The Next Level Entertainment Consulting Inc":MAILTO:info@tnlec.com
END:VEVENT
BEGIN:VEVENT
DTSTART;TZID=America/Edmonton:20240316T190000
DTEND;TZID=America/Edmonton:20240316T210000
DTSTAMP:20260424T023827
CREATED:20240305T004429Z
LAST-MODIFIED:20240305T004429Z
UID:1021-1710615600-1710622800@dougrobbmusic.com
SUMMARY:The Mash - Legacy
DESCRIPTION:
URL:https://dougrobbmusic.com/event/the-mash-legacy-2-2/
LOCATION:The Mash – Legacy\, 20 Longview Common SE#610\, Calgary\, Alberta\, T2X0M7\, Canada
CATEGORIES:Doug Robb Acoustic Shows
ATTACH;FMTTYPE=image/png:https://dougrobbmusic.com/wp-content/uploads/2024/02/24.03.16-The-Mash-Legacy-Calgary.png
END:VEVENT
BEGIN:VEVENT
DTSTART;TZID=America/Edmonton:20240322T190000
DTEND;TZID=America/Edmonton:20240322T210000
DTSTAMP:20260424T023827
CREATED:20240213T111123Z
LAST-MODIFIED:20240213T111123Z
UID:1005-1711134000-1711141200@dougrobbmusic.com
SUMMARY:Atlas Brewing
DESCRIPTION:
URL:https://dougrobbmusic.com/event/atlas-brewing/
LOCATION:Atlas Brewing\, #100\, 2000 Market Street SE\,\, Airdrie\, Alberta\, T4A 0R8\, Canada
CATEGORIES:Doug Robb Acoustic Shows
ATTACH;FMTTYPE=image/png:https://dougrobbmusic.com/wp-content/uploads/2024/02/24.03.22-Atlas-Brewing-Airdrie.png
ORGANIZER;CN="The Next Level Entertainment Consulting Inc":MAILTO:info@tnlec.com
END:VEVENT
BEGIN:VEVENT
DTSTART;TZID=America/Edmonton:20240329T190000
DTEND;TZID=America/Edmonton:20240329T233000
DTSTAMP:20260424T023827
CREATED:20240305T004610Z
LAST-MODIFIED:20240305T004610Z
UID:1023-1711738800-1711755000@dougrobbmusic.com
SUMMARY:The Bears Den
DESCRIPTION:
URL:https://dougrobbmusic.com/event/the-bears-den-2-2-2/
LOCATION:The Bears Den\, 9923 102 Street\, Fort Saskatchewan\, Alberta\, T8L 2C4\, Canada
CATEGORIES:Doug Robb Acoustic Shows
ATTACH;FMTTYPE=image/png:https://dougrobbmusic.com/wp-content/uploads/2024/02/24.03.29-Bears-Den-Fort-Saskatchewan.png
ORGANIZER;CN="The Next Level Entertainment Consulting Inc":MAILTO:info@tnlec.com
END:VEVENT
END:VCALENDAR