BEGIN:VCALENDAR
VERSION:2.0
PRODID:-//Doug Robb Music - ECPv6.15.20//NONSGML v1.0//EN
CALSCALE:GREGORIAN
METHOD:PUBLISH
X-ORIGINAL-URL:https://dougrobbmusic.com
X-WR-CALDESC:Events for Doug Robb Music
REFRESH-INTERVAL;VALUE=DURATION:PT1H
X-Robots-Tag:noindex
X-PUBLISHED-TTL:PT1H
BEGIN:VTIMEZONE
TZID:America/Edmonton
BEGIN:DAYLIGHT
TZOFFSETFROM:-0700
TZOFFSETTO:-0600
TZNAME:MDT
DTSTART:20230312T090000
END:DAYLIGHT
BEGIN:STANDARD
TZOFFSETFROM:-0600
TZOFFSETTO:-0700
TZNAME:MST
DTSTART:20231105T080000
END:STANDARD
BEGIN:DAYLIGHT
TZOFFSETFROM:-0700
TZOFFSETTO:-0600
TZNAME:MDT
DTSTART:20240310T090000
END:DAYLIGHT
BEGIN:STANDARD
TZOFFSETFROM:-0600
TZOFFSETTO:-0700
TZNAME:MST
DTSTART:20241103T080000
END:STANDARD
BEGIN:DAYLIGHT
TZOFFSETFROM:-0700
TZOFFSETTO:-0600
TZNAME:MDT
DTSTART:20250309T090000
END:DAYLIGHT
BEGIN:STANDARD
TZOFFSETFROM:-0600
TZOFFSETTO:-0700
TZNAME:MST
DTSTART:20251102T080000
END:STANDARD
END:VTIMEZONE
BEGIN:VTIMEZONE
TZID:America/Vancouver
BEGIN:DAYLIGHT
TZOFFSETFROM:-0800
TZOFFSETTO:-0700
TZNAME:PDT
DTSTART:20230312T100000
END:DAYLIGHT
BEGIN:STANDARD
TZOFFSETFROM:-0700
TZOFFSETTO:-0800
TZNAME:PST
DTSTART:20231105T090000
END:STANDARD
BEGIN:DAYLIGHT
TZOFFSETFROM:-0800
TZOFFSETTO:-0700
TZNAME:PDT
DTSTART:20240310T100000
END:DAYLIGHT
BEGIN:STANDARD
TZOFFSETFROM:-0700
TZOFFSETTO:-0800
TZNAME:PST
DTSTART:20241103T090000
END:STANDARD
BEGIN:DAYLIGHT
TZOFFSETFROM:-0800
TZOFFSETTO:-0700
TZNAME:PDT
DTSTART:20250309T100000
END:DAYLIGHT
BEGIN:STANDARD
TZOFFSETFROM:-0700
TZOFFSETTO:-0800
TZNAME:PST
DTSTART:20251102T090000
END:STANDARD
END:VTIMEZONE
BEGIN:VEVENT
DTSTART;TZID=America/Edmonton:20240701T190000
DTEND;TZID=America/Edmonton:20240701T230000
DTSTAMP:20260419T192427
CREATED:20240623T072756Z
LAST-MODIFIED:20240623T075142Z
UID:1217-1719860400-1719874800@dougrobbmusic.com
SUMMARY:Party In The Park Canada Day Event
DESCRIPTION:
URL:https://dougrobbmusic.com/event/party-in-the-park-canada-day-event/
LOCATION:Pysanky Park\, 4500 Pysanka Avenue\, Vegreville\, Alberta\, Canada
CATEGORIES:Doug Robb Acoustic Shows
ATTACH;FMTTYPE=image/png:https://dougrobbmusic.com/wp-content/uploads/2024/06/24.07.01-Party-In-The-Park-Canada-Day-Event-Held-in-Pysanky-Park-1.png
ORGANIZER;CN="The Next Level Entertainment Consulting Inc":MAILTO:info@tnlec.com
END:VEVENT
BEGIN:VEVENT
DTSTART;TZID=America/Edmonton:20240704T190000
DTEND;TZID=America/Edmonton:20240704T210000
DTSTAMP:20260419T192427
CREATED:20240623T074619Z
LAST-MODIFIED:20240623T074619Z
UID:1221-1720119600-1720126800@dougrobbmusic.com
SUMMARY:Grist & Mash Brewery
DESCRIPTION:
URL:https://dougrobbmusic.com/event/grist-mash-brewery-2/
LOCATION:Grist & Mash Brewery\, 345 Wallinger Ave\, Kimberley\, British Columbia\, V1A1Z3\, Canada
CATEGORIES:Doug Robb Acoustic Shows
ATTACH;FMTTYPE=image/png:https://dougrobbmusic.com/wp-content/uploads/2024/06/24.07.04-Grist-Mash-Brewery-Kimberley-BC.png
ORGANIZER;CN="The Next Level Entertainment Consulting Inc":MAILTO:info@tnlec.com
END:VEVENT
BEGIN:VEVENT
DTSTART;TZID=America/Vancouver:20240705T140000
DTEND;TZID=America/Vancouver:20240705T150000
DTSTAMP:20260419T192427
CREATED:20240623T075737Z
LAST-MODIFIED:20240623T075737Z
UID:1225-1720188000-1720191600@dougrobbmusic.com
SUMMARY:*PRIVATE EVENT*
DESCRIPTION:
URL:https://dougrobbmusic.com/event/private-event-2-2/
LOCATION:Alberta
CATEGORIES:Doug Robb Acoustic Shows
ATTACH;FMTTYPE=image/png:https://dougrobbmusic.com/wp-content/uploads/2024/06/Private-Event.png
ORGANIZER;CN="The Next Level Entertainment Consulting Inc":MAILTO:info@tnlec.com
END:VEVENT
BEGIN:VEVENT
DTSTART;TZID=America/Edmonton:20240706T200000
DTEND;TZID=America/Edmonton:20240706T230000
DTSTAMP:20260419T192427
CREATED:20240623T080824Z
LAST-MODIFIED:20240623T080824Z
UID:1227-1720296000-1720306800@dougrobbmusic.com
SUMMARY:Morrisey’s Public House
DESCRIPTION:
URL:https://dougrobbmusic.com/event/morriseys-public-house-2-2/
LOCATION:Morrisey’s Public House\, 3240 Village Way\, Sun Peaks Grand Hotel\, Sun Peaks\, British Columbia\, V0E5N0\, Canada
CATEGORIES:Doug Robb Acoustic Shows
ATTACH;FMTTYPE=image/png:https://dougrobbmusic.com/wp-content/uploads/2024/06/24.07.06-Morriseys-Public-House-Sun-Peaks.png
ORGANIZER;CN="The Next Level Entertainment Consulting Inc":MAILTO:info@tnlec.com
END:VEVENT
BEGIN:VEVENT
DTSTART;TZID=America/Edmonton:20240709T090000
DTEND;TZID=America/Edmonton:20240709T110000
DTSTAMP:20260419T192427
CREATED:20240623T083055Z
LAST-MODIFIED:20240623T083055Z
UID:1230-1720515600-1720522800@dougrobbmusic.com
SUMMARY:Stampede Breakfast Event
DESCRIPTION:
URL:https://dougrobbmusic.com/event/stampede-breakfast-event/
LOCATION:VCA C.A.R.E. Centre\, 7140 12 ST SE\, Calgary\, Alberta\, T2H2Y4\, Canada
CATEGORIES:Doug Robb Acoustic Shows
ATTACH;FMTTYPE=image/png:https://dougrobbmusic.com/wp-content/uploads/2024/06/24.07.09-Stampede-Breakfast-Calgary-AB.png
ORGANIZER;CN="The Next Level Entertainment Consulting Inc":MAILTO:info@tnlec.com
END:VEVENT
BEGIN:VEVENT
DTSTART;TZID=America/Edmonton:20240709T160000
DTEND;TZID=America/Edmonton:20240709T200000
DTSTAMP:20260419T192427
CREATED:20240623T085837Z
LAST-MODIFIED:20240623T085837Z
UID:1234-1720540800-1720555200@dougrobbmusic.com
SUMMARY:Inglewood Pollinator Park Market
DESCRIPTION:
URL:https://dougrobbmusic.com/event/inglewood-pollinator-park-market/
LOCATION:Inglewood Pollinator Park Market\, 925 9th Ave SE\, Calgary\, Alberta\, T2G0S5\, Canada
CATEGORIES:Doug Robb Acoustic Shows
ATTACH;FMTTYPE=image/png:https://dougrobbmusic.com/wp-content/uploads/2024/06/24.07.09-Inglewood-Pollinator-Park-Market-Calgary-AB.png
ORGANIZER;CN="The Next Level Entertainment Consulting Inc":MAILTO:info@tnlec.com
END:VEVENT
BEGIN:VEVENT
DTSTART;TZID=America/Vancouver:20240712T193000
DTEND;TZID=America/Vancouver:20240712T223000
DTSTAMP:20260419T192427
CREATED:20240714T192245Z
LAST-MODIFIED:20240714T192245Z
UID:1244-1720812600-1720823400@dougrobbmusic.com
SUMMARY:*PRIVATE EVENT*
DESCRIPTION:
URL:https://dougrobbmusic.com/event/private-event-2-2-2/
LOCATION:Alberta
CATEGORIES:Doug Robb Acoustic Shows
ATTACH;FMTTYPE=image/png:https://dougrobbmusic.com/wp-content/uploads/2024/06/Private-Event.png
ORGANIZER;CN="The Next Level Entertainment Consulting Inc":MAILTO:info@tnlec.com
END:VEVENT
BEGIN:VEVENT
DTSTART;TZID=America/Edmonton:20240713T100000
DTEND;TZID=America/Edmonton:20240713T123000
DTSTAMP:20260419T192427
CREATED:20240715T031508Z
LAST-MODIFIED:20240715T031508Z
UID:1250-1720864800-1720873800@dougrobbmusic.com
SUMMARY:Grand Market
DESCRIPTION:
URL:https://dougrobbmusic.com/event/grand-market/
LOCATION:Canadian Tire\, 2110 101 St NW\, Edmonton\, Alberta\, T6N 1J2\, Canada
CATEGORIES:Doug Robb Acoustic Shows
ATTACH;FMTTYPE=image/png:https://dougrobbmusic.com/wp-content/uploads/2024/07/24.07.13-Edmonton-Grand-Market-Canadian-Tire-South-Common.png
ORGANIZER;CN="The Next Level Entertainment Consulting Inc":MAILTO:info@tnlec.com
END:VEVENT
BEGIN:VEVENT
DTSTART;TZID=America/Vancouver:20240716T140000
DTEND;TZID=America/Vancouver:20240716T163000
DTSTAMP:20260419T192427
CREATED:20240714T192430Z
LAST-MODIFIED:20240714T192430Z
UID:1248-1721138400-1721147400@dougrobbmusic.com
SUMMARY:*PRIVATE EVENT*
DESCRIPTION:
URL:https://dougrobbmusic.com/event/private-event-4/
LOCATION:Alberta
CATEGORIES:Doug Robb Acoustic Shows
ATTACH;FMTTYPE=image/png:https://dougrobbmusic.com/wp-content/uploads/2024/06/Private-Event.png
ORGANIZER;CN="The Next Level Entertainment Consulting Inc":MAILTO:info@tnlec.com
END:VEVENT
BEGIN:VEVENT
DTSTART;TZID=America/Vancouver:20240718T143000
DTEND;TZID=America/Vancouver:20240718T153000
DTSTAMP:20260419T192427
CREATED:20240714T192342Z
LAST-MODIFIED:20240714T192342Z
UID:1246-1721313000-1721316600@dougrobbmusic.com
SUMMARY:*PRIVATE EVENT*
DESCRIPTION:
URL:https://dougrobbmusic.com/event/private-event-3/
LOCATION:Alberta
CATEGORIES:Doug Robb Acoustic Shows
ATTACH;FMTTYPE=image/png:https://dougrobbmusic.com/wp-content/uploads/2024/06/Private-Event.png
ORGANIZER;CN="The Next Level Entertainment Consulting Inc":MAILTO:info@tnlec.com
END:VEVENT
BEGIN:VEVENT
DTSTART;TZID=America/Edmonton:20240720T120000
DTEND;TZID=America/Edmonton:20240720T160000
DTSTAMP:20260419T192427
CREATED:20240715T035721Z
LAST-MODIFIED:20240715T035721Z
UID:1254-1721476800-1721491200@dougrobbmusic.com
SUMMARY:Cherry Blast 2024
DESCRIPTION:
URL:https://dougrobbmusic.com/event/cherry-blast-2024/
LOCATION:Souto Farms Local Market\, 275170 Dickson Stevenson Trail\, Rocky View County\, Alberta\, T4B 4C9\, Canada
CATEGORIES:Doug Robb Acoustic Shows
ATTACH;FMTTYPE=image/png:https://dougrobbmusic.com/wp-content/uploads/2024/07/24.07.20-Souto-Farms.png
ORGANIZER;CN="The Next Level Entertainment Consulting Inc":MAILTO:info@tnlec.com
END:VEVENT
BEGIN:VEVENT
DTSTART;TZID=America/Edmonton:20240721T120000
DTEND;TZID=America/Edmonton:20240721T160000
DTSTAMP:20260419T192427
CREATED:20240715T035809Z
LAST-MODIFIED:20240715T035809Z
UID:1258-1721563200-1721577600@dougrobbmusic.com
SUMMARY:Cherry Blast 2024
DESCRIPTION:
URL:https://dougrobbmusic.com/event/cherry-blast-2024-2/
LOCATION:Souto Farms Local Market\, 275170 Dickson Stevenson Trail\, Rocky View County\, Alberta\, T4B 4C9\, Canada
CATEGORIES:Doug Robb Acoustic Shows
ATTACH;FMTTYPE=image/png:https://dougrobbmusic.com/wp-content/uploads/2024/07/24.07.20-Souto-Farms.png
ORGANIZER;CN="The Next Level Entertainment Consulting Inc":MAILTO:info@tnlec.com
END:VEVENT
END:VCALENDAR