BEGIN:VCALENDAR
VERSION:2.0
PRODID:-//Doug Robb Music - ECPv6.15.20//NONSGML v1.0//EN
CALSCALE:GREGORIAN
METHOD:PUBLISH
X-WR-CALNAME:Doug Robb Music
X-ORIGINAL-URL:https://dougrobbmusic.com
X-WR-CALDESC:Events for Doug Robb Music
REFRESH-INTERVAL;VALUE=DURATION:PT1H
X-Robots-Tag:noindex
X-PUBLISHED-TTL:PT1H
BEGIN:VTIMEZONE
TZID:America/Edmonton
BEGIN:DAYLIGHT
TZOFFSETFROM:-0700
TZOFFSETTO:-0600
TZNAME:MDT
DTSTART:20230312T090000
END:DAYLIGHT
BEGIN:STANDARD
TZOFFSETFROM:-0600
TZOFFSETTO:-0700
TZNAME:MST
DTSTART:20231105T080000
END:STANDARD
BEGIN:DAYLIGHT
TZOFFSETFROM:-0700
TZOFFSETTO:-0600
TZNAME:MDT
DTSTART:20240310T090000
END:DAYLIGHT
BEGIN:STANDARD
TZOFFSETFROM:-0600
TZOFFSETTO:-0700
TZNAME:MST
DTSTART:20241103T080000
END:STANDARD
BEGIN:DAYLIGHT
TZOFFSETFROM:-0700
TZOFFSETTO:-0600
TZNAME:MDT
DTSTART:20250309T090000
END:DAYLIGHT
BEGIN:STANDARD
TZOFFSETFROM:-0600
TZOFFSETTO:-0700
TZNAME:MST
DTSTART:20251102T080000
END:STANDARD
END:VTIMEZONE
BEGIN:VEVENT
DTSTART;TZID=America/Edmonton:20240801T170000
DTEND;TZID=America/Edmonton:20240801T190000
DTSTAMP:20260419T174100
CREATED:20240808T182240Z
LAST-MODIFIED:20240808T182240Z
UID:1285-1722531600-1722538800@dougrobbmusic.com
SUMMARY:The Shoe & Canoe
DESCRIPTION:
URL:https://dougrobbmusic.com/event/the-shoe-canoe/
LOCATION:The Shoe & Canoe Public House\, 209 4 Ave SE\, Calgary\, AB\, T2G0C6\, Canada
CATEGORIES:Doug Robb Acoustic Shows
ATTACH;FMTTYPE=image/png:https://dougrobbmusic.com/wp-content/uploads/2024/08/24.08.01-The-Shoe-Canoe-Public-House-Calgary-FB.png
ORGANIZER;CN="The Next Level Entertainment Consulting Inc":MAILTO:info@tnlec.com
END:VEVENT
BEGIN:VEVENT
DTSTART;TZID=America/Edmonton:20240808T163000
DTEND;TZID=America/Edmonton:20240808T190000
DTSTAMP:20260419T174100
CREATED:20240802T065856Z
LAST-MODIFIED:20240802T065856Z
UID:1260-1723134600-1723143600@dougrobbmusic.com
SUMMARY:Bull Bash/Tofield Western Days
DESCRIPTION:
URL:https://dougrobbmusic.com/event/bull-bash-tofield-western-days/
LOCATION:Tofield Fair Grounds\, 4748-53 Ave\, Tofield\, Alberta\, T0B4J0\, Canada
CATEGORIES:Doug Robb Acoustic Shows
ATTACH;FMTTYPE=image/png:https://dougrobbmusic.com/wp-content/uploads/2024/08/24.08.08-Bull-Bash-Tofield-Western-Days.png
ORGANIZER;CN="The Next Level Entertainment Consulting Inc":MAILTO:info@tnlec.com
END:VEVENT
BEGIN:VEVENT
DTSTART;TZID=America/Edmonton:20240810T180000
DTEND;TZID=America/Edmonton:20240810T210000
DTSTAMP:20260419T174100
CREATED:20240806T230837Z
LAST-MODIFIED:20240806T230837Z
UID:1266-1723312800-1723323600@dougrobbmusic.com
SUMMARY:Rocky View Brewing Company
DESCRIPTION:
URL:https://dougrobbmusic.com/event/rocky-view-brewing-company/
LOCATION:Rocky View Brewing Company\, 420 - 1 St. W\, Cochrane\, Alberta\, T4C1A5\, Canada
CATEGORIES:Doug Robb Acoustic Shows
ATTACH;FMTTYPE=image/png:https://dougrobbmusic.com/wp-content/uploads/2024/08/24.08.10-Rockyview-Brewing-Company-Airdrie.png
ORGANIZER;CN="The Next Level Entertainment Consulting Inc":MAILTO:info@tnlec.com
END:VEVENT
BEGIN:VEVENT
DTSTART;TZID=America/Edmonton:20240813T140000
DTEND;TZID=America/Edmonton:20240813T163000
DTSTAMP:20260419T174100
CREATED:20240802T070829Z
LAST-MODIFIED:20240802T070903Z
UID:1264-1723557600-1723566600@dougrobbmusic.com
SUMMARY:*PRIVATE EVENT*
DESCRIPTION:
URL:https://dougrobbmusic.com/event/private-event-3-2/
LOCATION:Alberta
CATEGORIES:Doug Robb Acoustic Shows
ATTACH;FMTTYPE=image/png:https://dougrobbmusic.com/wp-content/uploads/2024/06/Private-Event.png
ORGANIZER;CN="The Next Level Entertainment Consulting Inc":MAILTO:info@tnlec.com
END:VEVENT
BEGIN:VEVENT
DTSTART;TZID=America/Edmonton:20240822T170000
DTEND;TZID=America/Edmonton:20240822T200000
DTSTAMP:20260419T174100
CREATED:20240815T145403Z
LAST-MODIFIED:20240815T145403Z
UID:1342-1724346000-1724356800@dougrobbmusic.com
SUMMARY:Whoop Up Days Marketplace
DESCRIPTION:
URL:https://dougrobbmusic.com/event/whoop-up-days-marketplace/
LOCATION:Whoop Up Days Marketplace\, 101 Exhibition Way South\, Lethbridge\, Alberta\, T1J 4R3\, Canada
CATEGORIES:Doug Robb Acoustic Shows
ATTACH;FMTTYPE=image/png:https://dougrobbmusic.com/wp-content/uploads/2024/08/24.08.22-Whoop-Up-Market-Days-Lethbridge-AB.png
ORGANIZER;CN="The Next Level Entertainment Consulting Inc":MAILTO:info@tnlec.com
END:VEVENT
BEGIN:VEVENT
DTSTART;TZID=America/Edmonton:20240823T140000
DTEND;TZID=America/Edmonton:20240823T150000
DTSTAMP:20260419T174100
CREATED:20240807T161049Z
LAST-MODIFIED:20240807T161049Z
UID:1272-1724421600-1724425200@dougrobbmusic.com
SUMMARY:*PRIVATE EVENT*
DESCRIPTION:
URL:https://dougrobbmusic.com/event/private-event-3-2-2/
LOCATION:Alberta
CATEGORIES:Doug Robb Acoustic Shows
ATTACH;FMTTYPE=image/png:https://dougrobbmusic.com/wp-content/uploads/2024/06/Private-Event.png
ORGANIZER;CN="The Next Level Entertainment Consulting Inc":MAILTO:info@tnlec.com
END:VEVENT
BEGIN:VEVENT
DTSTART;TZID=America/Edmonton:20240823T190000
DTEND;TZID=America/Edmonton:20240823T210000
DTSTAMP:20260419T174100
CREATED:20240808T022054Z
LAST-MODIFIED:20240808T022054Z
UID:1275-1724439600-1724446800@dougrobbmusic.com
SUMMARY:Zee Bar & Grill
DESCRIPTION:
URL:https://dougrobbmusic.com/event/zee-bar-grill-2/
LOCATION:Zee Bar & Grill\, 240 Stony Mountain Road\, Anzac\, Alberta\, T0P 1J0\, Canada
CATEGORIES:Doug Robb Acoustic Shows
ATTACH;FMTTYPE=image/png:https://dougrobbmusic.com/wp-content/uploads/2024/08/24.08.23-Zee-Bar-Grill-FB.png
ORGANIZER;CN="The Next Level Entertainment Consulting Inc":MAILTO:info@tnlec.com
END:VEVENT
BEGIN:VEVENT
DTSTART;TZID=America/Edmonton:20240824T130000
DTEND;TZID=America/Edmonton:20240824T150000
DTSTAMP:20260419T174100
CREATED:20240808T022154Z
LAST-MODIFIED:20240808T022154Z
UID:1278-1724504400-1724511600@dougrobbmusic.com
SUMMARY:Zee Bar & Grill
DESCRIPTION:
URL:https://dougrobbmusic.com/event/zee-bar-grill-2-2/
LOCATION:Zee Bar & Grill\, 240 Stony Mountain Road\, Anzac\, Alberta\, T0P 1J0\, Canada
CATEGORIES:Doug Robb Acoustic Shows
ATTACH;FMTTYPE=image/png:https://dougrobbmusic.com/wp-content/uploads/2024/08/24.08.23-Zee-Bar-Grill-FB.png
ORGANIZER;CN="The Next Level Entertainment Consulting Inc":MAILTO:info@tnlec.com
END:VEVENT
BEGIN:VEVENT
DTSTART;TZID=America/Edmonton:20240824T190000
DTEND;TZID=America/Edmonton:20240824T210000
DTSTAMP:20260419T174100
CREATED:20240808T022222Z
LAST-MODIFIED:20240808T022222Z
UID:1280-1724526000-1724533200@dougrobbmusic.com
SUMMARY:Zee Bar & Grill
DESCRIPTION:
URL:https://dougrobbmusic.com/event/zee-bar-grill-2-3/
LOCATION:Zee Bar & Grill\, 240 Stony Mountain Road\, Anzac\, Alberta\, T0P 1J0\, Canada
CATEGORIES:Doug Robb Acoustic Shows
ATTACH;FMTTYPE=image/png:https://dougrobbmusic.com/wp-content/uploads/2024/08/24.08.23-Zee-Bar-Grill-FB.png
ORGANIZER;CN="The Next Level Entertainment Consulting Inc":MAILTO:info@tnlec.com
END:VEVENT
BEGIN:VEVENT
DTSTART;TZID=America/Edmonton:20240830T190000
DTEND;TZID=America/Edmonton:20240830T220000
DTSTAMP:20260419T174100
CREATED:20240808T022531Z
LAST-MODIFIED:20240808T022531Z
UID:1282-1725044400-1725055200@dougrobbmusic.com
SUMMARY:Casa Amigos Cantina
DESCRIPTION:
URL:https://dougrobbmusic.com/event/casa-amigos-cantina-2/
LOCATION:Casa Amigos Cantina\, 1-480 THIRD STREET SE\, Medicine Hat\, Alberta\, T1A0H1\, Canada
CATEGORIES:Doug Robb Acoustic Shows
ATTACH;FMTTYPE=image/png:https://dougrobbmusic.com/wp-content/uploads/2024/08/24.08.30-Casa-Amigos-Cantina-Medicine-Hat-FB.png
ORGANIZER;CN="The Next Level Entertainment Consulting Inc":MAILTO:info@tnlec.com
END:VEVENT
END:VCALENDAR