BEGIN:VCALENDAR
VERSION:2.0
PRODID:-//Doug Robb Music - ECPv6.15.20//NONSGML v1.0//EN
CALSCALE:GREGORIAN
METHOD:PUBLISH
X-WR-CALNAME:Doug Robb Music
X-ORIGINAL-URL:https://dougrobbmusic.com
X-WR-CALDESC:Events for Doug Robb Music
REFRESH-INTERVAL;VALUE=DURATION:PT1H
X-Robots-Tag:noindex
X-PUBLISHED-TTL:PT1H
BEGIN:VTIMEZONE
TZID:America/Edmonton
BEGIN:DAYLIGHT
TZOFFSETFROM:-0700
TZOFFSETTO:-0600
TZNAME:MDT
DTSTART:20230312T090000
END:DAYLIGHT
BEGIN:STANDARD
TZOFFSETFROM:-0600
TZOFFSETTO:-0700
TZNAME:MST
DTSTART:20231105T080000
END:STANDARD
BEGIN:DAYLIGHT
TZOFFSETFROM:-0700
TZOFFSETTO:-0600
TZNAME:MDT
DTSTART:20240310T090000
END:DAYLIGHT
BEGIN:STANDARD
TZOFFSETFROM:-0600
TZOFFSETTO:-0700
TZNAME:MST
DTSTART:20241103T080000
END:STANDARD
BEGIN:DAYLIGHT
TZOFFSETFROM:-0700
TZOFFSETTO:-0600
TZNAME:MDT
DTSTART:20250309T090000
END:DAYLIGHT
BEGIN:STANDARD
TZOFFSETFROM:-0600
TZOFFSETTO:-0700
TZNAME:MST
DTSTART:20251102T080000
END:STANDARD
END:VTIMEZONE
BEGIN:VTIMEZONE
TZID:America/Vancouver
BEGIN:DAYLIGHT
TZOFFSETFROM:-0800
TZOFFSETTO:-0700
TZNAME:PDT
DTSTART:20230312T100000
END:DAYLIGHT
BEGIN:STANDARD
TZOFFSETFROM:-0700
TZOFFSETTO:-0800
TZNAME:PST
DTSTART:20231105T090000
END:STANDARD
BEGIN:DAYLIGHT
TZOFFSETFROM:-0800
TZOFFSETTO:-0700
TZNAME:PDT
DTSTART:20240310T100000
END:DAYLIGHT
BEGIN:STANDARD
TZOFFSETFROM:-0700
TZOFFSETTO:-0800
TZNAME:PST
DTSTART:20241103T090000
END:STANDARD
BEGIN:DAYLIGHT
TZOFFSETFROM:-0800
TZOFFSETTO:-0700
TZNAME:PDT
DTSTART:20250309T100000
END:DAYLIGHT
BEGIN:STANDARD
TZOFFSETFROM:-0700
TZOFFSETTO:-0800
TZNAME:PST
DTSTART:20251102T090000
END:STANDARD
END:VTIMEZONE
BEGIN:VEVENT
DTSTART;TZID=America/Edmonton:20241005T123000
DTEND;TZID=America/Edmonton:20241005T150000
DTSTAMP:20260419T141447
CREATED:20240815T222135Z
LAST-MODIFIED:20240927T174816Z
UID:1355-1728131400-1728140400@dougrobbmusic.com
SUMMARY:Grand Market - Canadian Tire South Common
DESCRIPTION:
URL:https://dougrobbmusic.com/event/grand-market-3-2/
LOCATION:Canadian Tire\, 2110 101 St NW\, Edmonton\, Alberta\, T6N 1J2\, Canada
CATEGORIES:Doug Robb Acoustic Shows
ATTACH;FMTTYPE=image/png:https://dougrobbmusic.com/wp-content/uploads/2024/08/24.10.56-Edmonton-Grand-Market-Canadian-Tire-South-Common-FB-1.png
ORGANIZER;CN="The Next Level Entertainment Consulting Inc":MAILTO:info@tnlec.com
END:VEVENT
BEGIN:VEVENT
DTSTART;TZID=America/Edmonton:20241006T130000
DTEND;TZID=America/Edmonton:20241006T150000
DTSTAMP:20260419T141447
CREATED:20240815T222213Z
LAST-MODIFIED:20240927T174848Z
UID:1358-1728219600-1728226800@dougrobbmusic.com
SUMMARY:Grand Market - Canadian Tire South Common
DESCRIPTION:
URL:https://dougrobbmusic.com/event/grand-market-3-2-2/
LOCATION:Canadian Tire\, 2110 101 St NW\, Edmonton\, Alberta\, T6N 1J2\, Canada
CATEGORIES:Doug Robb Acoustic Shows
ATTACH;FMTTYPE=image/png:https://dougrobbmusic.com/wp-content/uploads/2024/08/24.10.56-Edmonton-Grand-Market-Canadian-Tire-South-Common-FB-1.png
ORGANIZER;CN="The Next Level Entertainment Consulting Inc":MAILTO:info@tnlec.com
END:VEVENT
BEGIN:VEVENT
DTSTART;TZID=America/Edmonton:20241013T100000
DTEND;TZID=America/Edmonton:20241013T150000
DTSTAMP:20260419T141447
CREATED:20240815T222617Z
LAST-MODIFIED:20240927T175008Z
UID:1360-1728813600-1728831600@dougrobbmusic.com
SUMMARY:Callingwood Farmer's Market
DESCRIPTION:
URL:https://dougrobbmusic.com/event/callingwood-market-2-2-2-3/
LOCATION:The Marketplace at Callingwood\, 6655 178 Street\, Edmonton\, Alberta\, T5T4J5\, Canada
CATEGORIES:Doug Robb Acoustic Shows
ATTACH;FMTTYPE=image/png:https://dougrobbmusic.com/wp-content/uploads/2024/08/24.10.13-Callingwood-Farmers-Market-FB-1.png
ORGANIZER;CN="The Next Level Entertainment Consulting Inc":MAILTO:info@tnlec.com
END:VEVENT
BEGIN:VEVENT
DTSTART;TZID=America/Edmonton:20241015T140000
DTEND;TZID=America/Edmonton:20241015T163000
DTSTAMP:20260419T141447
CREATED:20240927T144832Z
LAST-MODIFIED:20240927T151339Z
UID:1406-1729000800-1729009800@dougrobbmusic.com
SUMMARY:*PRIVATE EVENT*
DESCRIPTION:
URL:https://dougrobbmusic.com/event/private-event-3-2-2-2-2-2-4-2/
LOCATION:Alberta
CATEGORIES:Doug Robb Acoustic Shows
ATTACH;FMTTYPE=image/png:https://dougrobbmusic.com/wp-content/uploads/2024/09/Private-Event.png
ORGANIZER;CN="The Next Level Entertainment Consulting Inc":MAILTO:info@tnlec.com
END:VEVENT
BEGIN:VEVENT
DTSTART;TZID=America/Edmonton:20241018T190000
DTEND;TZID=America/Edmonton:20241018T210000
DTSTAMP:20260419T141447
CREATED:20240911T220154Z
LAST-MODIFIED:20240927T175143Z
UID:1390-1729278000-1729285200@dougrobbmusic.com
SUMMARY:The Bears Den
DESCRIPTION:
URL:https://dougrobbmusic.com/event/the-bears-den-2-2-2-2-2/
LOCATION:The Bears Den\, 9923 102 Street\, Fort Saskatchewan\, Alberta\, T8L 2C4\, Canada
CATEGORIES:Doug Robb Acoustic Shows
ATTACH;FMTTYPE=image/png:https://dougrobbmusic.com/wp-content/uploads/2024/09/24.10.18-Bears-Den-Fort-Saskatchewan-FB-1.png
ORGANIZER;CN="The Next Level Entertainment Consulting Inc":MAILTO:info@tnlec.com
END:VEVENT
BEGIN:VEVENT
DTSTART;TZID=America/Edmonton:20241019T200000
DTEND;TZID=America/Edmonton:20241019T233000
DTSTAMP:20260419T141447
CREATED:20241008T155810Z
LAST-MODIFIED:20241008T155810Z
UID:1449-1729368000-1729380600@dougrobbmusic.com
SUMMARY:Route 39 Public House
DESCRIPTION:
URL:https://dougrobbmusic.com/event/route-39-public-house-3/
LOCATION:Route 39\, 5010 50 Ave\, Calmar\, Alberta\, T0C0V0\, Canada
CATEGORIES:Doug Robb Acoustic Shows
ATTACH;FMTTYPE=image/png:https://dougrobbmusic.com/wp-content/uploads/2024/10/24.10.19-Route-39-Public-House-Calmar-AB.png
ORGANIZER;CN="The Next Level Entertainment Consulting Inc":MAILTO:info@tnlec.com
END:VEVENT
BEGIN:VEVENT
DTSTART;TZID=America/Edmonton:20241020T110000
DTEND;TZID=America/Edmonton:20241020T130000
DTSTAMP:20260419T141447
CREATED:20240904T200414Z
LAST-MODIFIED:20240927T175237Z
UID:1384-1729422000-1729429200@dougrobbmusic.com
SUMMARY:Cornerstone Music Cafe
DESCRIPTION:
URL:https://dougrobbmusic.com/event/cornerstone-music-cafe-2/
LOCATION:Cornerstone Music Cafe\, 139-14919 Deer Ridge Dr SE\, Calgary\, Alberta\, 14919 DeeT2J 7C4\, Canada
CATEGORIES:Doug Robb Acoustic Shows
ATTACH;FMTTYPE=image/png:https://dougrobbmusic.com/wp-content/uploads/2024/09/24.10.20-Cornerstone-Music-Cafe-Calgary-AB-FB-1.png
ORGANIZER;CN="The Next Level Entertainment Consulting Inc":MAILTO:info@tnlec.com
END:VEVENT
BEGIN:VEVENT
DTSTART;TZID=America/Vancouver:20241026T183000
DTEND;TZID=America/Vancouver:20241026T213000
DTSTAMP:20260419T141447
CREATED:20240815T222756Z
LAST-MODIFIED:20240927T175345Z
UID:1365-1729967400-1729978200@dougrobbmusic.com
SUMMARY:The Pond Country Market
DESCRIPTION:
URL:https://dougrobbmusic.com/event/the-pond-country-market-2/
LOCATION:The Pond Country Market\, 6231 Barnhartvale Rd.\, Kamloops\, BC\, V2C6V6\, Canada
CATEGORIES:Doug Robb Acoustic Shows
ATTACH;FMTTYPE=image/png:https://dougrobbmusic.com/wp-content/uploads/2024/08/24.10.26-The-Pond-Country-Market-Kamloops-BC-FB-1.png
ORGANIZER;CN="The Next Level Entertainment Consulting Inc":MAILTO:info@tnlec.com
END:VEVENT
END:VCALENDAR