BEGIN:VCALENDAR
VERSION:2.0
PRODID:-//Doug Robb Music - ECPv6.15.20//NONSGML v1.0//EN
CALSCALE:GREGORIAN
METHOD:PUBLISH
X-ORIGINAL-URL:https://dougrobbmusic.com
X-WR-CALDESC:Events for Doug Robb Music
REFRESH-INTERVAL;VALUE=DURATION:PT1H
X-Robots-Tag:noindex
X-PUBLISHED-TTL:PT1H
BEGIN:VTIMEZONE
TZID:America/Edmonton
BEGIN:DAYLIGHT
TZOFFSETFROM:-0700
TZOFFSETTO:-0600
TZNAME:MDT
DTSTART:20230312T090000
END:DAYLIGHT
BEGIN:STANDARD
TZOFFSETFROM:-0600
TZOFFSETTO:-0700
TZNAME:MST
DTSTART:20231105T080000
END:STANDARD
BEGIN:DAYLIGHT
TZOFFSETFROM:-0700
TZOFFSETTO:-0600
TZNAME:MDT
DTSTART:20240310T090000
END:DAYLIGHT
BEGIN:STANDARD
TZOFFSETFROM:-0600
TZOFFSETTO:-0700
TZNAME:MST
DTSTART:20241103T080000
END:STANDARD
BEGIN:DAYLIGHT
TZOFFSETFROM:-0700
TZOFFSETTO:-0600
TZNAME:MDT
DTSTART:20250309T090000
END:DAYLIGHT
BEGIN:STANDARD
TZOFFSETFROM:-0600
TZOFFSETTO:-0700
TZNAME:MST
DTSTART:20251102T080000
END:STANDARD
END:VTIMEZONE
BEGIN:VTIMEZONE
TZID:America/Vancouver
BEGIN:DAYLIGHT
TZOFFSETFROM:-0800
TZOFFSETTO:-0700
TZNAME:PDT
DTSTART:20230312T100000
END:DAYLIGHT
BEGIN:STANDARD
TZOFFSETFROM:-0700
TZOFFSETTO:-0800
TZNAME:PST
DTSTART:20231105T090000
END:STANDARD
BEGIN:DAYLIGHT
TZOFFSETFROM:-0800
TZOFFSETTO:-0700
TZNAME:PDT
DTSTART:20240310T100000
END:DAYLIGHT
BEGIN:STANDARD
TZOFFSETFROM:-0700
TZOFFSETTO:-0800
TZNAME:PST
DTSTART:20241103T090000
END:STANDARD
BEGIN:DAYLIGHT
TZOFFSETFROM:-0800
TZOFFSETTO:-0700
TZNAME:PDT
DTSTART:20250309T100000
END:DAYLIGHT
BEGIN:STANDARD
TZOFFSETFROM:-0700
TZOFFSETTO:-0800
TZNAME:PST
DTSTART:20251102T090000
END:STANDARD
END:VTIMEZONE
BEGIN:VTIMEZONE
TZID:America/Regina
BEGIN:STANDARD
TZOFFSETFROM:-0600
TZOFFSETTO:-0600
TZNAME:CST
DTSTART:20230101T000000
END:STANDARD
END:VTIMEZONE
BEGIN:VEVENT
DTSTART;TZID=America/Edmonton:20241205T190000
DTEND;TZID=America/Edmonton:20241205T210000
DTSTAMP:20260419T103321
CREATED:20240911T220457Z
LAST-MODIFIED:20241112T000330Z
UID:1393-1733425200-1733432400@dougrobbmusic.com
SUMMARY:Snake Lake Brewing Company
DESCRIPTION:
URL:https://dougrobbmusic.com/event/snake-lake-brewing-company-2-2/
LOCATION:Snake Lake Brewing Company\, 26 Industrial Drive\, Sylvan Lake\, Alberta\, T4S 1P5\, Canada
CATEGORIES:Doug Robb Acoustic Shows
ATTACH;FMTTYPE=image/png:https://dougrobbmusic.com/wp-content/uploads/2024/09/24.12.05-Snake-Lake-Brewing-Co-Sylvan-Lake-AB-FB-2.png
ORGANIZER;CN="The Next Level Entertainment Consulting Inc":MAILTO:info@tnlec.com
END:VEVENT
BEGIN:VEVENT
DTSTART;TZID=America/Vancouver:20241209T133000
DTEND;TZID=America/Vancouver:20241209T153000
DTSTAMP:20260419T103321
CREATED:20241108T200827Z
LAST-MODIFIED:20241108T200827Z
UID:1493-1733751000-1733758200@dougrobbmusic.com
SUMMARY:*PRIVATE EVENT*
DESCRIPTION:
URL:https://dougrobbmusic.com/event/private-event-3-2-2-2-2-2-5-2-2/
LOCATION:Alberta
CATEGORIES:Doug Robb Acoustic Shows
ATTACH;FMTTYPE=image/png:https://dougrobbmusic.com/wp-content/uploads/2024/10/Private-Event-1.png
ORGANIZER;CN="The Next Level Entertainment Consulting Inc":MAILTO:info@tnlec.com
END:VEVENT
BEGIN:VEVENT
DTSTART;TZID=America/Edmonton:20241211T183000
DTEND;TZID=America/Edmonton:20241211T193000
DTSTAMP:20260419T103321
CREATED:20241021T175134Z
LAST-MODIFIED:20241112T000219Z
UID:1458-1733941800-1733945400@dougrobbmusic.com
SUMMARY:Edmonton Christmas Market at Fort Edmonton Park
DESCRIPTION:
URL:https://dougrobbmusic.com/event/edmonton-christmas-market-2/
LOCATION:Fort Edmonton Park\, 7000 143 Street\, Edmonton\, Alberta\, T6H 4P3\, Canada
CATEGORIES:Doug Robb Acoustic Shows
ATTACH;FMTTYPE=image/png:https://dougrobbmusic.com/wp-content/uploads/2024/10/24.12.11-Edmonton-Christmas-Market-Fort-Edmonton-AB-1.png
ORGANIZER;CN="The Next Level Entertainment Consulting Inc":MAILTO:info@tnlec.com
END:VEVENT
BEGIN:VEVENT
DTSTART;TZID=America/Edmonton:20241212T190000
DTEND;TZID=America/Edmonton:20241212T223000
DTSTAMP:20260419T103321
CREATED:20241121T211100Z
LAST-MODIFIED:20241121T211100Z
UID:1537-1734030000-1734042600@dougrobbmusic.com
SUMMARY:The Dive Bar Unplugged - X-Mas Edition
DESCRIPTION:
URL:https://dougrobbmusic.com/event/the-dive-bar-unplugged-x-mas-edition/
LOCATION:The Dive Bar\, 9692 Jasper Ave\, Edmonton\, Alberta\, T5H 3V5\, Canada
CATEGORIES:Doug Robb Acoustic Shows
ATTACH;FMTTYPE=image/png:https://dougrobbmusic.com/wp-content/uploads/2024/11/24.12.12-The-Dive-Bar-Edmonton-AB.png
ORGANIZER;CN="The Next Level Entertainment Consulting Inc":MAILTO:info@tnlec.com
END:VEVENT
BEGIN:VEVENT
DTSTART;TZID=America/Edmonton:20241215T170000
DTEND;TZID=America/Edmonton:20241215T180000
DTSTAMP:20260419T103321
CREATED:20241021T175352Z
LAST-MODIFIED:20241112T000107Z
UID:1461-1734282000-1734285600@dougrobbmusic.com
SUMMARY:Edmonton Christmas Market at Fort Edmonton Park
DESCRIPTION:
URL:https://dougrobbmusic.com/event/edmonton-christmas-market-2-2/
LOCATION:Fort Edmonton Park\, 7000 143 Street\, Edmonton\, Alberta\, T6H 4P3\, Canada
CATEGORIES:Doug Robb Acoustic Shows
ATTACH;FMTTYPE=image/png:https://dougrobbmusic.com/wp-content/uploads/2024/10/24.12.16-Edmonton-Christmas-Market-Fort-Edmonton-1.png
ORGANIZER;CN="The Next Level Entertainment Consulting Inc":MAILTO:info@tnlec.com
END:VEVENT
BEGIN:VEVENT
DTSTART;TZID=America/Edmonton:20241216T133000
DTEND;TZID=America/Edmonton:20241216T153000
DTSTAMP:20260419T103321
CREATED:20241108T201017Z
LAST-MODIFIED:20241216T163203Z
UID:1495-1734355800-1734363000@dougrobbmusic.com
SUMMARY:*PRIVATE EVENT*
DESCRIPTION:
URL:https://dougrobbmusic.com/event/private-event-3-2-2-2-2-2-4-4/
LOCATION:Alberta
CATEGORIES:Doug Robb Acoustic Shows
ATTACH;FMTTYPE=image/png:https://dougrobbmusic.com/wp-content/uploads/2024/10/Private-Event-1.png
ORGANIZER;CN="The Next Level Entertainment Consulting Inc":MAILTO:info@tnlec.com
END:VEVENT
BEGIN:VEVENT
DTSTART;TZID=America/Edmonton:20241217T140000
DTEND;TZID=America/Edmonton:20241217T163000
DTSTAMP:20260419T103321
CREATED:20240911T220648Z
LAST-MODIFIED:20241216T163117Z
UID:1396-1734444000-1734453000@dougrobbmusic.com
SUMMARY:*PRIVATE EVENT*
DESCRIPTION:
URL:https://dougrobbmusic.com/event/private-event-3-2-2-2-2-2-4/
LOCATION:Alberta
CATEGORIES:Doug Robb Acoustic Shows
ATTACH;FMTTYPE=image/png:https://dougrobbmusic.com/wp-content/uploads/2024/10/Private-Event-1.png
ORGANIZER;CN="The Next Level Entertainment Consulting Inc":MAILTO:info@tnlec.com
END:VEVENT
BEGIN:VEVENT
DTSTART;TZID=America/Edmonton:20241219T170000
DTEND;TZID=America/Edmonton:20241219T183000
DTSTAMP:20260419T103321
CREATED:20241016T180435Z
LAST-MODIFIED:20241111T235937Z
UID:1452-1734627600-1734633000@dougrobbmusic.com
SUMMARY:Gasoline Alley Indoor Farmer's Market
DESCRIPTION:
URL:https://dougrobbmusic.com/event/gasoline-alley-indoor-farmers-market/
LOCATION:Gasoline Alley Farmer’s Market\, 558\, Laura Ave\, Red Deer County\, Alberta\, T4E 0A5\, Canada
CATEGORIES:Doug Robb Acoustic Shows
ATTACH;FMTTYPE=image/png:https://dougrobbmusic.com/wp-content/uploads/2024/10/24.12.19-Gasoline-Alley-Farmers-Market-Red-Deer-AB-FB-1.png
ORGANIZER;CN="The Next Level Entertainment Consulting Inc":MAILTO:info@tnlec.com
END:VEVENT
BEGIN:VEVENT
DTSTART;TZID=America/Edmonton:20241220T110000
DTEND;TZID=America/Edmonton:20241220T120000
DTSTAMP:20260419T103321
CREATED:20241121T035546Z
LAST-MODIFIED:20241123T015404Z
UID:1525-1734692400-1734696000@dougrobbmusic.com
SUMMARY:Bountiful Market
DESCRIPTION:
URL:https://dougrobbmusic.com/event/bountiful-market-3-2-2-2-2-2-2-2-2-2/
LOCATION:Bountiful Market\, 3696 97 Street\, Edmonton\, Alberta\, T6E5N2\, Canada
CATEGORIES:Doug Robb Acoustic Shows
ATTACH;FMTTYPE=image/png:https://dougrobbmusic.com/wp-content/uploads/2024/11/24.12.202122-Bountiful-Market-Edmonton-AB-1.png
ORGANIZER;CN="The Next Level Entertainment Consulting Inc":MAILTO:info@tnlec.com
END:VEVENT
BEGIN:VEVENT
DTSTART;TZID=America/Edmonton:20241220T183000
DTEND;TZID=America/Edmonton:20241220T213000
DTSTAMP:20260419T103321
CREATED:20241202T232530Z
LAST-MODIFIED:20241202T232555Z
UID:1552-1734719400-1734730200@dougrobbmusic.com
SUMMARY:Gems Café & Bistro
DESCRIPTION:
URL:https://dougrobbmusic.com/event/gems-cafe-bistro-2/
LOCATION:Gems Café & Bistro\, 7 State Ave\, Fort Assiniboine\, Alberta\, T0G 1A0\, Canada
CATEGORIES:Doug Robb Acoustic Shows
ATTACH;FMTTYPE=image/png:https://dougrobbmusic.com/wp-content/uploads/2024/12/24.12.20-Gems-Cafe-and-Bistro-Fort-Assiniboine-AB.png
ORGANIZER;CN="The Next Level Entertainment Consulting Inc":MAILTO:info@tnlec.com
END:VEVENT
BEGIN:VEVENT
DTSTART;TZID=America/Edmonton:20241221T110000
DTEND;TZID=America/Edmonton:20241221T120000
DTSTAMP:20260419T103321
CREATED:20241121T035614Z
LAST-MODIFIED:20241123T015431Z
UID:1528-1734778800-1734782400@dougrobbmusic.com
SUMMARY:Bountiful Market
DESCRIPTION:
URL:https://dougrobbmusic.com/event/bountiful-market-3-2-2-2-2-2-2-2-2-2-2/
LOCATION:Bountiful Market\, 3696 97 Street\, Edmonton\, Alberta\, T6E5N2\, Canada
CATEGORIES:Doug Robb Acoustic Shows
ATTACH;FMTTYPE=image/png:https://dougrobbmusic.com/wp-content/uploads/2024/11/24.12.202122-Bountiful-Market-Edmonton-AB-1.png
ORGANIZER;CN="The Next Level Entertainment Consulting Inc":MAILTO:info@tnlec.com
END:VEVENT
BEGIN:VEVENT
DTSTART;TZID=America/Edmonton:20241221T200000
DTEND;TZID=America/Edmonton:20241221T233000
DTSTAMP:20260419T103321
CREATED:20241022T235146Z
LAST-MODIFIED:20241111T235818Z
UID:1466-1734811200-1734823800@dougrobbmusic.com
SUMMARY:Route 39 Public House
DESCRIPTION:
URL:https://dougrobbmusic.com/event/route-39-public-house-3-2/
LOCATION:Route 39\, 5010 50 Ave\, Calmar\, Alberta\, T0C0V0\, Canada
CATEGORIES:Doug Robb Acoustic Shows
ATTACH;FMTTYPE=image/png:https://dougrobbmusic.com/wp-content/uploads/2024/10/24.12.21-Route-39-Public-House-Calmar-AB-1.png
ORGANIZER;CN="The Next Level Entertainment Consulting Inc":MAILTO:info@tnlec.com
END:VEVENT
BEGIN:VEVENT
DTSTART;TZID=America/Edmonton:20241222T110000
DTEND;TZID=America/Edmonton:20241222T120000
DTSTAMP:20260419T103321
CREATED:20241121T035701Z
LAST-MODIFIED:20241123T015455Z
UID:1530-1734865200-1734868800@dougrobbmusic.com
SUMMARY:Bountiful Market
DESCRIPTION:
URL:https://dougrobbmusic.com/event/bountiful-market-3-2-2-2-2-2-2-2-2-2-2-2/
LOCATION:Bountiful Market\, 3696 97 Street\, Edmonton\, Alberta\, T6E5N2\, Canada
CATEGORIES:Doug Robb Acoustic Shows
ATTACH;FMTTYPE=image/png:https://dougrobbmusic.com/wp-content/uploads/2024/11/24.12.202122-Bountiful-Market-Edmonton-AB-1.png
ORGANIZER;CN="The Next Level Entertainment Consulting Inc":MAILTO:info@tnlec.com
END:VEVENT
BEGIN:VEVENT
DTSTART;TZID=America/Regina:20241226T160000
DTEND;TZID=America/Regina:20241226T190000
DTSTAMP:20260419T103321
CREATED:20241210T005229Z
LAST-MODIFIED:20241210T005229Z
UID:1582-1735228800-1735239600@dougrobbmusic.com
SUMMARY:Glow Saskatoon 2024
DESCRIPTION:
URL:https://dougrobbmusic.com/event/glow-saskatoon-2023-7-2/
LOCATION:Glow Saskatoon\, 503 Ruth Street West\, Saskatoon\, Saskatchewan\, SK S7K 4E4\, Canada
CATEGORIES:Doug Robb Acoustic Shows
ATTACH;FMTTYPE=image/png:https://dougrobbmusic.com/wp-content/uploads/2024/12/24.12.26-Glow-Saskatoon-SK.png
ORGANIZER;CN="The Next Level Entertainment Consulting Inc":MAILTO:info@tnlec.com
END:VEVENT
BEGIN:VEVENT
DTSTART;TZID=America/Regina:20241227T143000
DTEND;TZID=America/Regina:20241227T210000
DTSTAMP:20260419T103321
CREATED:20241210T005508Z
LAST-MODIFIED:20241210T005508Z
UID:1585-1735309800-1735333200@dougrobbmusic.com
SUMMARY:Glow Saskatoon 2024
DESCRIPTION:
URL:https://dougrobbmusic.com/event/glow-saskatoon-2023-7-2-2/
LOCATION:Glow Saskatoon\, 503 Ruth Street West\, Saskatoon\, Saskatchewan\, SK S7K 4E4\, Canada
CATEGORIES:Doug Robb Acoustic Shows
ATTACH;FMTTYPE=image/png:https://dougrobbmusic.com/wp-content/uploads/2024/12/24.12.27-Glow-Saskatoon-SK.png
ORGANIZER;CN="The Next Level Entertainment Consulting Inc":MAILTO:info@tnlec.com
END:VEVENT
BEGIN:VEVENT
DTSTART;TZID=America/Regina:20241228T133000
DTEND;TZID=America/Regina:20241228T200000
DTSTAMP:20260419T103321
CREATED:20241210T005611Z
LAST-MODIFIED:20241210T005611Z
UID:1589-1735392600-1735416000@dougrobbmusic.com
SUMMARY:Glow Saskatoon 2024
DESCRIPTION:
URL:https://dougrobbmusic.com/event/glow-saskatoon-2023-7-2-2-2/
LOCATION:Glow Saskatoon\, 503 Ruth Street West\, Saskatoon\, Saskatchewan\, SK S7K 4E4\, Canada
CATEGORIES:Doug Robb Acoustic Shows
ATTACH;FMTTYPE=image/png:https://dougrobbmusic.com/wp-content/uploads/2024/12/24.12.28-Glow-Saskatoon-SK.png
ORGANIZER;CN="The Next Level Entertainment Consulting Inc":MAILTO:info@tnlec.com
END:VEVENT
BEGIN:VEVENT
DTSTART;TZID=America/Regina:20241229T160000
DTEND;TZID=America/Regina:20241229T210000
DTSTAMP:20260419T103321
CREATED:20241210T005818Z
LAST-MODIFIED:20241210T005818Z
UID:1592-1735488000-1735506000@dougrobbmusic.com
SUMMARY:Glow Saskatoon 2024
DESCRIPTION:
URL:https://dougrobbmusic.com/event/glow-saskatoon-2024-29/
LOCATION:Glow Saskatoon\, 503 Ruth Street West\, Saskatoon\, Saskatchewan\, SK S7K 4E4\, Canada
CATEGORIES:Doug Robb Acoustic Shows
ATTACH;FMTTYPE=image/png:https://dougrobbmusic.com/wp-content/uploads/2024/12/24.12.29-Glow-Saskatoon-SK.png
ORGANIZER;CN="The Next Level Entertainment Consulting Inc":MAILTO:info@tnlec.com
END:VEVENT
BEGIN:VEVENT
DTSTART;TZID=America/Edmonton:20241231T210000
DTEND;TZID=America/Edmonton:20241231T233000
DTSTAMP:20260419T103321
CREATED:20250115T153417Z
LAST-MODIFIED:20250115T153417Z
UID:1635-1735678800-1735687800@dougrobbmusic.com
SUMMARY:*PRIVATE EVENT*
DESCRIPTION:
URL:https://dougrobbmusic.com/event/private-event-3-2-2-2-2-2-4-5/
LOCATION:Alberta
CATEGORIES:Doug Robb Acoustic Shows
ATTACH;FMTTYPE=image/png:https://dougrobbmusic.com/wp-content/uploads/2024/10/Private-Event-1.png
ORGANIZER;CN="The Next Level Entertainment Consulting Inc":MAILTO:info@tnlec.com
END:VEVENT
END:VCALENDAR