BEGIN:VCALENDAR
VERSION:2.0
PRODID:-//Doug Robb Music - ECPv6.15.20//NONSGML v1.0//EN
CALSCALE:GREGORIAN
METHOD:PUBLISH
X-ORIGINAL-URL:https://dougrobbmusic.com
X-WR-CALDESC:Events for Doug Robb Music
REFRESH-INTERVAL;VALUE=DURATION:PT1H
X-Robots-Tag:noindex
X-PUBLISHED-TTL:PT1H
BEGIN:VTIMEZONE
TZID:America/Edmonton
BEGIN:DAYLIGHT
TZOFFSETFROM:-0700
TZOFFSETTO:-0600
TZNAME:MDT
DTSTART:20220313T090000
END:DAYLIGHT
BEGIN:STANDARD
TZOFFSETFROM:-0600
TZOFFSETTO:-0700
TZNAME:MST
DTSTART:20221106T080000
END:STANDARD
BEGIN:DAYLIGHT
TZOFFSETFROM:-0700
TZOFFSETTO:-0600
TZNAME:MDT
DTSTART:20230312T090000
END:DAYLIGHT
BEGIN:STANDARD
TZOFFSETFROM:-0600
TZOFFSETTO:-0700
TZNAME:MST
DTSTART:20231105T080000
END:STANDARD
BEGIN:DAYLIGHT
TZOFFSETFROM:-0700
TZOFFSETTO:-0600
TZNAME:MDT
DTSTART:20240310T090000
END:DAYLIGHT
BEGIN:STANDARD
TZOFFSETFROM:-0600
TZOFFSETTO:-0700
TZNAME:MST
DTSTART:20241103T080000
END:STANDARD
END:VTIMEZONE
BEGIN:VEVENT
DTSTART;TZID=America/Edmonton:20230813T110000
DTEND;TZID=America/Edmonton:20230813T150000
DTSTAMP:20260424T142726
CREATED:20230904T074534Z
LAST-MODIFIED:20230904T074534Z
UID:796-1691924400-1691938800@dougrobbmusic.com
SUMMARY:Jensen Lakes Dental Open House
DESCRIPTION:
URL:https://dougrobbmusic.com/event/jensen-lakes-dental-open-house/
LOCATION:Jensen Lakes Dental Open House\, 840 St Albert Trail #215\, St. Albert\, Alberta\, Canada
CATEGORIES:Doug Robb Acoustic Shows
ATTACH;FMTTYPE=image/png:https://dougrobbmusic.com/wp-content/uploads/2023/09/23.08.13-Jensen-Lakes-Dental-Open-House.png
END:VEVENT
END:VCALENDAR