BEGIN:VCALENDAR
VERSION:2.0
PRODID:-//Doug Robb Music - ECPv6.15.20//NONSGML v1.0//EN
CALSCALE:GREGORIAN
METHOD:PUBLISH
X-WR-CALNAME:Doug Robb Music
X-ORIGINAL-URL:https://dougrobbmusic.com
X-WR-CALDESC:Events for Doug Robb Music
REFRESH-INTERVAL;VALUE=DURATION:PT1H
X-Robots-Tag:noindex
X-PUBLISHED-TTL:PT1H
BEGIN:VTIMEZONE
TZID:America/Edmonton
BEGIN:DAYLIGHT
TZOFFSETFROM:-0700
TZOFFSETTO:-0600
TZNAME:MDT
DTSTART:20220313T090000
END:DAYLIGHT
BEGIN:STANDARD
TZOFFSETFROM:-0600
TZOFFSETTO:-0700
TZNAME:MST
DTSTART:20221106T080000
END:STANDARD
BEGIN:DAYLIGHT
TZOFFSETFROM:-0700
TZOFFSETTO:-0600
TZNAME:MDT
DTSTART:20230312T090000
END:DAYLIGHT
BEGIN:STANDARD
TZOFFSETFROM:-0600
TZOFFSETTO:-0700
TZNAME:MST
DTSTART:20231105T080000
END:STANDARD
BEGIN:DAYLIGHT
TZOFFSETFROM:-0700
TZOFFSETTO:-0600
TZNAME:MDT
DTSTART:20240310T090000
END:DAYLIGHT
BEGIN:STANDARD
TZOFFSETFROM:-0600
TZOFFSETTO:-0700
TZNAME:MST
DTSTART:20241103T080000
END:STANDARD
END:VTIMEZONE
BEGIN:VEVENT
DTSTART;TZID=America/Edmonton:20230922T114500
DTEND;TZID=America/Edmonton:20230922T124500
DTSTAMP:20260424T125859
CREATED:20230904T071103Z
LAST-MODIFIED:20230904T071103Z
UID:786-1695383100-1695386700@dougrobbmusic.com
SUMMARY:Summer Songs on Stephen Ave
DESCRIPTION:
URL:https://dougrobbmusic.com/event/summer-songs-on-stephen-ave-4/
LOCATION:Summer Songs on Stephen Ave\, 1st Street SW and Stephen Ave\, Calgary\, Alberta\, T2P2W2\, Canada
CATEGORIES:Doug Robb Acoustic Shows
ATTACH;FMTTYPE=image/png:https://dougrobbmusic.com/wp-content/uploads/2023/09/23.09.22-Summer-Songs-on-Stephen-Avenue.png
END:VEVENT
BEGIN:VEVENT
DTSTART;TZID=America/Edmonton:20230922T160000
DTEND;TZID=America/Edmonton:20230922T180000
DTSTAMP:20260424T125859
CREATED:20230904T073421Z
LAST-MODIFIED:20230904T073421Z
UID:789-1695398400-1695405600@dougrobbmusic.com
SUMMARY:Busking on the Mile - East Village HQ Stage
DESCRIPTION:
URL:https://dougrobbmusic.com/event/busking-on-the-mile-east-village-hq-stage/
LOCATION:The Music Mile Society\, East Village HQ Stage - 9 Ave SE\, Calgary\, Alberta\, T2G0S9\, Canada
CATEGORIES:Doug Robb Acoustic Shows
ATTACH;FMTTYPE=image/png:https://dougrobbmusic.com/wp-content/uploads/2023/09/23.09.22-East-Village-HQ-Stage.png
END:VEVENT
END:VCALENDAR