BEGIN:VCALENDAR
VERSION:2.0
PRODID:-//Doug Robb Music - ECPv6.15.20//NONSGML v1.0//EN
CALSCALE:GREGORIAN
METHOD:PUBLISH
X-WR-CALNAME:Doug Robb Music
X-ORIGINAL-URL:https://dougrobbmusic.com
X-WR-CALDESC:Events for Doug Robb Music
REFRESH-INTERVAL;VALUE=DURATION:PT1H
X-Robots-Tag:noindex
X-PUBLISHED-TTL:PT1H
BEGIN:VTIMEZONE
TZID:America/Edmonton
BEGIN:DAYLIGHT
TZOFFSETFROM:-0700
TZOFFSETTO:-0600
TZNAME:MDT
DTSTART:20220313T090000
END:DAYLIGHT
BEGIN:STANDARD
TZOFFSETFROM:-0600
TZOFFSETTO:-0700
TZNAME:MST
DTSTART:20221106T080000
END:STANDARD
BEGIN:DAYLIGHT
TZOFFSETFROM:-0700
TZOFFSETTO:-0600
TZNAME:MDT
DTSTART:20230312T090000
END:DAYLIGHT
BEGIN:STANDARD
TZOFFSETFROM:-0600
TZOFFSETTO:-0700
TZNAME:MST
DTSTART:20231105T080000
END:STANDARD
BEGIN:DAYLIGHT
TZOFFSETFROM:-0700
TZOFFSETTO:-0600
TZNAME:MDT
DTSTART:20240310T090000
END:DAYLIGHT
BEGIN:STANDARD
TZOFFSETFROM:-0600
TZOFFSETTO:-0700
TZNAME:MST
DTSTART:20241103T080000
END:STANDARD
END:VTIMEZONE
BEGIN:VEVENT
DTSTART;TZID=America/Edmonton:20231223T190000
DTEND;TZID=America/Edmonton:20231224T223000
DTSTAMP:20260424T082612
CREATED:20230919T203516Z
LAST-MODIFIED:20230919T203516Z
UID:828-1703358000-1703457000@dougrobbmusic.com
SUMMARY:The East Coast Junction - Tibb's Eve Party
DESCRIPTION:
URL:https://dougrobbmusic.com/event/the-east-coast-junction-tibbs-eve-party/
LOCATION:The East Coast Junction\, 10650 Winterburn Rd\, Edmonton\, Alberta\, T5S2C4\, Canada
CATEGORIES:Doug Robb Acoustic Shows
ATTACH;FMTTYPE=image/png:https://dougrobbmusic.com/wp-content/uploads/2023/09/23.12.23-THE-EAST-COAST-JUNCTION.png
ORGANIZER;CN="The Next Level Entertainment Consulting Inc":MAILTO:info@tnlec.com
END:VEVENT
END:VCALENDAR