BEGIN:VCALENDAR
VERSION:2.0
PRODID:-//Doug Robb Music - ECPv6.15.20//NONSGML v1.0//EN
CALSCALE:GREGORIAN
METHOD:PUBLISH
X-WR-CALNAME:Doug Robb Music
X-ORIGINAL-URL:https://dougrobbmusic.com
X-WR-CALDESC:Events for Doug Robb Music
REFRESH-INTERVAL;VALUE=DURATION:PT1H
X-Robots-Tag:noindex
X-PUBLISHED-TTL:PT1H
BEGIN:VTIMEZONE
TZID:America/Edmonton
BEGIN:DAYLIGHT
TZOFFSETFROM:-0700
TZOFFSETTO:-0600
TZNAME:MDT
DTSTART:20230312T090000
END:DAYLIGHT
BEGIN:STANDARD
TZOFFSETFROM:-0600
TZOFFSETTO:-0700
TZNAME:MST
DTSTART:20231105T080000
END:STANDARD
BEGIN:DAYLIGHT
TZOFFSETFROM:-0700
TZOFFSETTO:-0600
TZNAME:MDT
DTSTART:20240310T090000
END:DAYLIGHT
BEGIN:STANDARD
TZOFFSETFROM:-0600
TZOFFSETTO:-0700
TZNAME:MST
DTSTART:20241103T080000
END:STANDARD
BEGIN:DAYLIGHT
TZOFFSETFROM:-0700
TZOFFSETTO:-0600
TZNAME:MDT
DTSTART:20250309T090000
END:DAYLIGHT
BEGIN:STANDARD
TZOFFSETFROM:-0600
TZOFFSETTO:-0700
TZNAME:MST
DTSTART:20251102T080000
END:STANDARD
END:VTIMEZONE
BEGIN:VEVENT
DTSTART;TZID=America/Edmonton:20240503T150000
DTEND;TZID=America/Edmonton:20240503T160000
DTSTAMP:20260420T005214
CREATED:20240428T000317Z
LAST-MODIFIED:20240428T000317Z
UID:1087-1714748400-1714752000@dougrobbmusic.com
SUMMARY:Acoustic Cafe Series Presents: Singer/Songwriter Doug Robb
DESCRIPTION:
URL:https://dougrobbmusic.com/event/acoustic-cafe-series-presents-singer-songwriter-doug-robb-2/
LOCATION:Second Cup Southland Drive SW\, 1919 Southland Dr SW\, Calgary\, Alberta\, T2W 0K1\, Canada
CATEGORIES:Doug Robb Acoustic Shows
ATTACH;FMTTYPE=image/png:https://dougrobbmusic.com/wp-content/uploads/2024/04/24.05.03-Second-Cup-Southland-Drive-SW-Calgary.png
ORGANIZER;CN="The Next Level Entertainment Consulting Inc":MAILTO:info@tnlec.com
END:VEVENT
BEGIN:VEVENT
DTSTART;TZID=America/Edmonton:20240503T190000
DTEND;TZID=America/Edmonton:20240503T210000
DTSTAMP:20260420T005214
CREATED:20240427T235408Z
LAST-MODIFIED:20240427T235408Z
UID:1084-1714762800-1714770000@dougrobbmusic.com
SUMMARY:Higher Ground Cafe Kensington
DESCRIPTION:
URL:https://dougrobbmusic.com/event/higher-ground-cafe-kensington-2-2-2/
LOCATION:Higher Ground Cafe Kensington\, 1126 Kensington Rd NW\, Calgary\, Alberta\, T2N 3P3\, Canada
CATEGORIES:Doug Robb Acoustic Shows
ATTACH;FMTTYPE=image/png:https://dougrobbmusic.com/wp-content/uploads/2024/04/24.05.03-Higher-Ground-Cafe-Kensington-Calgary.png
ORGANIZER;CN="The Next Level Entertainment Consulting Inc":MAILTO:info@tnlec.com
END:VEVENT
END:VCALENDAR