BEGIN:VCALENDAR
VERSION:2.0
PRODID:-//Doug Robb Music - ECPv6.15.20//NONSGML v1.0//EN
CALSCALE:GREGORIAN
METHOD:PUBLISH
X-ORIGINAL-URL:https://dougrobbmusic.com
X-WR-CALDESC:Events for Doug Robb Music
REFRESH-INTERVAL;VALUE=DURATION:PT1H
X-Robots-Tag:noindex
X-PUBLISHED-TTL:PT1H
BEGIN:VTIMEZONE
TZID:America/Edmonton
BEGIN:DAYLIGHT
TZOFFSETFROM:-0700
TZOFFSETTO:-0600
TZNAME:MDT
DTSTART:20230312T090000
END:DAYLIGHT
BEGIN:STANDARD
TZOFFSETFROM:-0600
TZOFFSETTO:-0700
TZNAME:MST
DTSTART:20231105T080000
END:STANDARD
BEGIN:DAYLIGHT
TZOFFSETFROM:-0700
TZOFFSETTO:-0600
TZNAME:MDT
DTSTART:20240310T090000
END:DAYLIGHT
BEGIN:STANDARD
TZOFFSETFROM:-0600
TZOFFSETTO:-0700
TZNAME:MST
DTSTART:20241103T080000
END:STANDARD
BEGIN:DAYLIGHT
TZOFFSETFROM:-0700
TZOFFSETTO:-0600
TZNAME:MDT
DTSTART:20250309T090000
END:DAYLIGHT
BEGIN:STANDARD
TZOFFSETFROM:-0600
TZOFFSETTO:-0700
TZNAME:MST
DTSTART:20251102T080000
END:STANDARD
END:VTIMEZONE
BEGIN:VEVENT
DTSTART;TZID=America/Edmonton:20240518T110000
DTEND;TZID=America/Edmonton:20240518T130000
DTSTAMP:20260420T005519
CREATED:20240423T084934Z
LAST-MODIFIED:20240423T084934Z
UID:1073-1716030000-1716037200@dougrobbmusic.com
SUMMARY:Highfield Food & Beverage Market Fest
DESCRIPTION:
URL:https://dougrobbmusic.com/event/highfield-food-beverage-market-fest/
LOCATION:Highfield Food & Beverage Market Fest\, 544 38a Ave SE\, Calgary\, Alberta\, T2G1X4\, Canada
CATEGORIES:Doug Robb Acoustic Shows
ATTACH;FMTTYPE=image/png:https://dougrobbmusic.com/wp-content/uploads/2024/04/24.05.18-19-Highfield-Food-Beverage-Market-Fest.png
ORGANIZER;CN="The Next Level Entertainment Consulting Inc":MAILTO:info@tnlec.com
END:VEVENT
BEGIN:VEVENT
DTSTART;TZID=America/Edmonton:20240518T143000
DTEND;TZID=America/Edmonton:20240518T210000
DTSTAMP:20260420T005519
CREATED:20240423T080604Z
LAST-MODIFIED:20240514T020407Z
UID:1061-1716042600-1716066000@dougrobbmusic.com
SUMMARY:2024 Sunny Settlers Series - Live at the Legendary 1890 Canmore Hotel
DESCRIPTION:
URL:https://dougrobbmusic.com/event/2024-sunny-settlers-series-live-at-the-legendary-1890-canmore-hotel/
LOCATION:1890 Legendary Canmore Hotel\, 738 8 St\, Canmore\, Alberta\, T1W2B6\, Canada
CATEGORIES:Doug Robb Acoustic Shows
ATTACH;FMTTYPE=image/png:https://dougrobbmusic.com/wp-content/uploads/2024/04/24.05.18-20-Canmore-1.png
END:VEVENT
END:VCALENDAR