BEGIN:VCALENDAR
VERSION:2.0
PRODID:-//Doug Robb Music - ECPv6.15.20//NONSGML v1.0//EN
CALSCALE:GREGORIAN
METHOD:PUBLISH
X-ORIGINAL-URL:https://dougrobbmusic.com
X-WR-CALDESC:Events for Doug Robb Music
REFRESH-INTERVAL;VALUE=DURATION:PT1H
X-Robots-Tag:noindex
X-PUBLISHED-TTL:PT1H
BEGIN:VTIMEZONE
TZID:America/Edmonton
BEGIN:DAYLIGHT
TZOFFSETFROM:-0700
TZOFFSETTO:-0600
TZNAME:MDT
DTSTART:20230312T090000
END:DAYLIGHT
BEGIN:STANDARD
TZOFFSETFROM:-0600
TZOFFSETTO:-0700
TZNAME:MST
DTSTART:20231105T080000
END:STANDARD
BEGIN:DAYLIGHT
TZOFFSETFROM:-0700
TZOFFSETTO:-0600
TZNAME:MDT
DTSTART:20240310T090000
END:DAYLIGHT
BEGIN:STANDARD
TZOFFSETFROM:-0600
TZOFFSETTO:-0700
TZNAME:MST
DTSTART:20241103T080000
END:STANDARD
BEGIN:DAYLIGHT
TZOFFSETFROM:-0700
TZOFFSETTO:-0600
TZNAME:MDT
DTSTART:20250309T090000
END:DAYLIGHT
BEGIN:STANDARD
TZOFFSETFROM:-0600
TZOFFSETTO:-0700
TZNAME:MST
DTSTART:20251102T080000
END:STANDARD
END:VTIMEZONE
BEGIN:VEVENT
DTSTART;TZID=America/Edmonton:20240601T123000
DTEND;TZID=America/Edmonton:20240601T143000
DTSTAMP:20260419T230307
CREATED:20240429T083336Z
LAST-MODIFIED:20240524T180637Z
UID:1132-1717245000-1717252200@dougrobbmusic.com
SUMMARY:*PRIVATE EVENT*
DESCRIPTION:
URL:https://dougrobbmusic.com/event/cloverdale-community-league-communit-event/
LOCATION:Muttart Conservatory\, 9626 96a Street NW\, Edmonton\, Alberta\, T6C4L8\, Canada
CATEGORIES:Doug Robb Acoustic Shows
ATTACH;FMTTYPE=image/png:https://dougrobbmusic.com/wp-content/uploads/2024/04/24.06.01-Cloverdale-Community-League.png
ORGANIZER;CN="The Next Level Entertainment Consulting Inc":MAILTO:info@tnlec.com
END:VEVENT
BEGIN:VEVENT
DTSTART;TZID=America/Edmonton:20240601T210000
DTEND;TZID=America/Edmonton:20240602T010000
DTSTAMP:20260419T230307
CREATED:20240429T081326Z
LAST-MODIFIED:20240429T081326Z
UID:1128-1717275600-1717290000@dougrobbmusic.com
SUMMARY:Cougars & Kittens Saloon
DESCRIPTION:
URL:https://dougrobbmusic.com/event/cougars-kittens-saloon/
LOCATION:Cougars & Kittens Saloon\, 221 50 Street\, Edson\, Alberta\, T7E 1X7\, Canada
CATEGORIES:Doug Robb Acoustic Shows
ATTACH;FMTTYPE=image/png:https://dougrobbmusic.com/wp-content/uploads/2024/04/24.06.01-Cougars-and-Kittens-Saloon-Edson.png
ORGANIZER;CN="The Next Level Entertainment Consulting Inc":MAILTO:info@tnlec.com
END:VEVENT
END:VCALENDAR