BEGIN:VCALENDAR
VERSION:2.0
PRODID:-//Doug Robb Music - ECPv6.15.20//NONSGML v1.0//EN
CALSCALE:GREGORIAN
METHOD:PUBLISH
X-WR-CALNAME:Doug Robb Music
X-ORIGINAL-URL:https://dougrobbmusic.com
X-WR-CALDESC:Events for Doug Robb Music
REFRESH-INTERVAL;VALUE=DURATION:PT1H
X-Robots-Tag:noindex
X-PUBLISHED-TTL:PT1H
BEGIN:VTIMEZONE
TZID:America/Regina
BEGIN:STANDARD
TZOFFSETFROM:-0600
TZOFFSETTO:-0600
TZNAME:CST
DTSTART:20230101T000000
END:STANDARD
END:VTIMEZONE
BEGIN:VEVENT
DTSTART;TZID=America/Regina:20241229T160000
DTEND;TZID=America/Regina:20241229T210000
DTSTAMP:20260419T122325
CREATED:20241210T005818Z
LAST-MODIFIED:20241210T005818Z
UID:1592-1735488000-1735506000@dougrobbmusic.com
SUMMARY:Glow Saskatoon 2024
DESCRIPTION:
URL:https://dougrobbmusic.com/event/glow-saskatoon-2024-29/
LOCATION:Glow Saskatoon\, 503 Ruth Street West\, Saskatoon\, Saskatchewan\, SK S7K 4E4\, Canada
CATEGORIES:Doug Robb Acoustic Shows
ATTACH;FMTTYPE=image/png:https://dougrobbmusic.com/wp-content/uploads/2024/12/24.12.29-Glow-Saskatoon-SK.png
ORGANIZER;CN="The Next Level Entertainment Consulting Inc":MAILTO:info@tnlec.com
END:VEVENT
END:VCALENDAR