BEGIN:VCALENDAR
VERSION:2.0
PRODID:-//Doug Robb Music - ECPv6.15.20//NONSGML v1.0//EN
CALSCALE:GREGORIAN
METHOD:PUBLISH
X-WR-CALNAME:Doug Robb Music
X-ORIGINAL-URL:https://dougrobbmusic.com
X-WR-CALDESC:Events for Doug Robb Music
REFRESH-INTERVAL;VALUE=DURATION:PT1H
X-Robots-Tag:noindex
X-PUBLISHED-TTL:PT1H
BEGIN:VTIMEZONE
TZID:America/Edmonton
BEGIN:DAYLIGHT
TZOFFSETFROM:-0700
TZOFFSETTO:-0600
TZNAME:MDT
DTSTART:20250309T090000
END:DAYLIGHT
BEGIN:STANDARD
TZOFFSETFROM:-0600
TZOFFSETTO:-0700
TZNAME:MST
DTSTART:20251102T080000
END:STANDARD
BEGIN:DAYLIGHT
TZOFFSETFROM:-0700
TZOFFSETTO:-0600
TZNAME:MDT
DTSTART:20260308T090000
END:DAYLIGHT
BEGIN:STANDARD
TZOFFSETFROM:-0600
TZOFFSETTO:-0700
TZNAME:MST
DTSTART:20261101T080000
END:STANDARD
BEGIN:DAYLIGHT
TZOFFSETFROM:-0700
TZOFFSETTO:-0600
TZNAME:MDT
DTSTART:20270314T090000
END:DAYLIGHT
BEGIN:STANDARD
TZOFFSETFROM:-0600
TZOFFSETTO:-0700
TZNAME:MST
DTSTART:20271107T080000
END:STANDARD
END:VTIMEZONE
BEGIN:VTIMEZONE
TZID:America/Vancouver
BEGIN:DAYLIGHT
TZOFFSETFROM:-0800
TZOFFSETTO:-0700
TZNAME:PDT
DTSTART:20250309T100000
END:DAYLIGHT
BEGIN:STANDARD
TZOFFSETFROM:-0700
TZOFFSETTO:-0800
TZNAME:PST
DTSTART:20251102T090000
END:STANDARD
BEGIN:DAYLIGHT
TZOFFSETFROM:-0800
TZOFFSETTO:-0700
TZNAME:PDT
DTSTART:20260308T100000
END:DAYLIGHT
BEGIN:STANDARD
TZOFFSETFROM:-0700
TZOFFSETTO:-0800
TZNAME:PST
DTSTART:20261101T090000
END:STANDARD
BEGIN:DAYLIGHT
TZOFFSETFROM:-0800
TZOFFSETTO:-0700
TZNAME:PDT
DTSTART:20270314T100000
END:DAYLIGHT
BEGIN:STANDARD
TZOFFSETFROM:-0700
TZOFFSETTO:-0800
TZNAME:PST
DTSTART:20271107T090000
END:STANDARD
END:VTIMEZONE
BEGIN:VEVENT
DTSTART;TZID=America/Edmonton:20260319T180000
DTEND;TZID=America/Edmonton:20260319T210000
DTSTAMP:20260422T155346
CREATED:20260309T000137Z
LAST-MODIFIED:20260309T000137Z
UID:2756-1773943200-1773954000@dougrobbmusic.com
SUMMARY:Snake Lake Brewing Company
DESCRIPTION:
URL:https://dougrobbmusic.com/event/snake-lake-brewing-company-2-2-2-3/
LOCATION:Snake Lake Brewing Company\, 26 Industrial Drive\, Sylvan Lake\, Alberta\, T4S 1P5\, Canada
CATEGORIES:Doug Robb Acoustic Shows
ATTACH;FMTTYPE=image/png:https://dougrobbmusic.com/wp-content/uploads/2026/03/26.03.19-Snake-Lake-Brewing-Co-Sylvan-Lake-AB.png
ORGANIZER;CN="The Next Level Entertainment Consulting Inc":MAILTO:info@tnlec.com
END:VEVENT
BEGIN:VEVENT
DTSTART;TZID=America/Edmonton:20260320T130000
DTEND;TZID=America/Edmonton:20260320T140000
DTSTAMP:20260422T155346
CREATED:20260227T052644Z
LAST-MODIFIED:20260227T052644Z
UID:2596-1774011600-1774015200@dougrobbmusic.com
SUMMARY:Bountiful Market
DESCRIPTION:
URL:https://dougrobbmusic.com/event/bountiful-market-3-2-2-2-2-2-2-2-2-2-2-2-2-2-2-2-2-2-2-2-2-2-3-2-2-2-2-3-2-2-2-2-2-2-2-2/
LOCATION:Bountiful Market\, 3696 97 Street\, Edmonton\, Alberta\, T6E5N2\, Canada
CATEGORIES:Doug Robb Acoustic Shows
ATTACH;FMTTYPE=image/png:https://dougrobbmusic.com/wp-content/uploads/2026/02/26.03.20-Bountiful-Market-Edmonton-AB.png
ORGANIZER;CN="The Next Level Entertainment Consulting Inc":MAILTO:info@tnlec.com
END:VEVENT
BEGIN:VEVENT
DTSTART;TZID=America/Edmonton:20260324T140000
DTEND;TZID=America/Edmonton:20260324T160000
DTSTAMP:20260422T155346
CREATED:20260227T052848Z
LAST-MODIFIED:20260305T000101Z
UID:2619-1774360800-1774368000@dougrobbmusic.com
SUMMARY:*PRIVATE EVENT*
DESCRIPTION:
URL:https://dougrobbmusic.com/event/private-event-3-2-2-2-2-2-5-4-2-6-7-2-2-2-2-2-2-9/
LOCATION:AB
CATEGORIES:Doug Robb Acoustic Shows
ATTACH;FMTTYPE=image/png:https://dougrobbmusic.com/wp-content/uploads/2026/02/doug-robb-Private-Event.png
ORGANIZER;CN="The Next Level Entertainment Consulting Inc":MAILTO:info@tnlec.com
END:VEVENT
BEGIN:VEVENT
DTSTART;TZID=America/Edmonton:20260327T130000
DTEND;TZID=America/Edmonton:20260327T140000
DTSTAMP:20260422T155346
CREATED:20260227T053347Z
LAST-MODIFIED:20260305T002504Z
UID:2625-1774616400-1774620000@dougrobbmusic.com
SUMMARY:Bountiful Market
DESCRIPTION:
URL:https://dougrobbmusic.com/event/bountiful-market-3-2-2-2-2-2-2-2-2-2-2-2-2-2-2-2-2-2-2-2-2-2-3-2-2-2-2-3-2-2-2-2-2-2-2-2-2/
LOCATION:Bountiful Market\, 3696 97 Street\, Edmonton\, Alberta\, T6E5N2\, Canada
CATEGORIES:Doug Robb Acoustic Shows
ATTACH;FMTTYPE=image/png:https://dougrobbmusic.com/wp-content/uploads/2026/02/26.03.27-Bountiful-Market-Edmonton-AB.png
ORGANIZER;CN="The Next Level Entertainment Consulting Inc":MAILTO:info@tnlec.com
END:VEVENT
BEGIN:VEVENT
DTSTART;TZID=America/Edmonton:20260327T190000
DTEND;TZID=America/Edmonton:20260327T220000
DTSTAMP:20260422T155346
CREATED:20260227T053253Z
LAST-MODIFIED:20260227T053253Z
UID:2622-1774638000-1774648800@dougrobbmusic.com
SUMMARY:Moxy Banff - Live #atTheMoxy Music Series
DESCRIPTION:
URL:https://dougrobbmusic.com/event/live-atthemoxy-music-series-2-2-2-3-2/
LOCATION:Moxy Banff\, 555 Banff Ave.\, Banff\, AB\, T1L1B5\, Canada
CATEGORIES:Doug Robb Acoustic Shows
ATTACH;FMTTYPE=image/png:https://dougrobbmusic.com/wp-content/uploads/2026/02/26.03.27-Live-at-the-Moxy-Banff-AB-1.png
ORGANIZER;CN="The Next Level Entertainment Consulting Inc":MAILTO:info@tnlec.com
END:VEVENT
BEGIN:VEVENT
DTSTART;TZID=America/Vancouver:20260328T140000
DTEND;TZID=America/Vancouver:20260328T160000
DTSTAMP:20260422T155346
CREATED:20260227T053450Z
LAST-MODIFIED:20260305T000140Z
UID:2627-1774706400-1774713600@dougrobbmusic.com
SUMMARY:*PRIVATE EVENT*
DESCRIPTION:
URL:https://dougrobbmusic.com/event/private-event-3-2-2-2-2-2-5-4-2-6-7-2-2-2-2-2-2-9-2/
LOCATION:AB
CATEGORIES:Doug Robb Acoustic Shows
ATTACH;FMTTYPE=image/png:https://dougrobbmusic.com/wp-content/uploads/2026/02/doug-robb-Private-Event.png
ORGANIZER;CN="The Next Level Entertainment Consulting Inc":MAILTO:info@tnlec.com
END:VEVENT
BEGIN:VEVENT
DTSTART;TZID=America/Vancouver:20260328T200000
DTEND;TZID=America/Vancouver:20260328T230000
DTSTAMP:20260422T155346
CREATED:20250820T143029Z
LAST-MODIFIED:20251017T203259Z
UID:2174-1774728000-1774738800@dougrobbmusic.com
SUMMARY:Morrisey’s Public House
DESCRIPTION:
URL:https://dougrobbmusic.com/event/morriseys-public-house-2-2-2-2-2-2-2-2-2-2/
LOCATION:Morrisey’s Public House\, 3240 Village Way\, Sun Peaks Grand Hotel\, Sun Peaks\, British Columbia\, V0E5N0\, Canada
CATEGORIES:Doug Robb Acoustic Shows
ATTACH;FMTTYPE=image/png:https://dougrobbmusic.com/wp-content/uploads/2025/08/26.03.28-Morriseys-Pub-Sun-Peaks-BC-1.png
ORGANIZER;CN="The Next Level Entertainment Consulting Inc":MAILTO:info@tnlec.com
END:VEVENT
BEGIN:VEVENT
DTSTART;TZID=America/Edmonton:20260403T190000
DTEND;TZID=America/Edmonton:20260403T220000
DTSTAMP:20260422T155346
CREATED:20251120T172415Z
LAST-MODIFIED:20251120T172415Z
UID:2525-1775242800-1775253600@dougrobbmusic.com
SUMMARY:The Bears Den
DESCRIPTION:
URL:https://dougrobbmusic.com/event/the-bears-den-2-2-2-2-2-2-2-2-2/
LOCATION:The Bears Den\, 9923 102 Street\, Fort Saskatchewan\, Alberta\, T8L 2C4\, Canada
CATEGORIES:Doug Robb Acoustic Shows
ATTACH;FMTTYPE=image/png:https://dougrobbmusic.com/wp-content/uploads/2025/11/26.04.03-The-Bears-Den-Fort-Saskatchewan-AB.png
ORGANIZER;CN="The Next Level Entertainment Consulting Inc":MAILTO:info@tnlec.com
END:VEVENT
BEGIN:VEVENT
DTSTART;TZID=America/Edmonton:20260410T200000
DTEND;TZID=America/Edmonton:20260410T233000
DTSTAMP:20260422T155346
CREATED:20260227T053909Z
LAST-MODIFIED:20260227T053909Z
UID:2631-1775851200-1775863800@dougrobbmusic.com
SUMMARY:The Rec Room WEM
DESCRIPTION:
URL:https://dougrobbmusic.com/event/the-rec-room-2-2/
LOCATION:The Rec Room\, 8882 170 St NW #2065\, Edmonton\, Alberta\, T5T3J7\, Canada
CATEGORIES:Doug Robb Acoustic Shows
ATTACH;FMTTYPE=image/png:https://dougrobbmusic.com/wp-content/uploads/2026/02/26.04.10-The-Rec-Room-WEM-Edmonton-AB.png
ORGANIZER;CN="The Next Level Entertainment Consulting Inc":MAILTO:info@tnlec.com
END:VEVENT
BEGIN:VEVENT
DTSTART;TZID=America/Edmonton:20260411T150000
DTEND;TZID=America/Edmonton:20260411T160000
DTSTAMP:20260422T155346
CREATED:20251117T042322Z
LAST-MODIFIED:20260305T000217Z
UID:2520-1775919600-1775923200@dougrobbmusic.com
SUMMARY:*PRIVATE EVENT*
DESCRIPTION:
URL:https://dougrobbmusic.com/event/private-event-3-2-2-2-2-2-5-4-2-6-7-2-2-2-2-2-2-4/
LOCATION:AB
CATEGORIES:Doug Robb Acoustic Shows
ATTACH;FMTTYPE=image/png:https://dougrobbmusic.com/wp-content/uploads/2026/02/doug-robb-Private-Event.png
END:VEVENT
BEGIN:VEVENT
DTSTART;TZID=America/Edmonton:20260411T200000
DTEND;TZID=America/Edmonton:20260411T233000
DTSTAMP:20260422T155346
CREATED:20260227T054034Z
LAST-MODIFIED:20260227T054034Z
UID:2633-1775937600-1775950200@dougrobbmusic.com
SUMMARY:Route 39 Public House
DESCRIPTION:
URL:https://dougrobbmusic.com/event/route-39-public-house-3-2-2-2-2-2/
LOCATION:Route 39\, 5010 50 Ave\, Calmar\, Alberta\, T0C0V0\, Canada
CATEGORIES:Doug Robb Acoustic Shows
ATTACH;FMTTYPE=image/png:https://dougrobbmusic.com/wp-content/uploads/2026/02/26.04.11-Route-39-Calmar-AB.png
ORGANIZER;CN="The Next Level Entertainment Consulting Inc":MAILTO:info@tnlec.com
END:VEVENT
BEGIN:VEVENT
DTSTART;TZID=America/Edmonton:20260412T150000
DTEND;TZID=America/Edmonton:20260412T180000
DTSTAMP:20260422T155346
CREATED:20260309T000358Z
LAST-MODIFIED:20260309T000358Z
UID:2758-1776006000-1776016800@dougrobbmusic.com
SUMMARY:*PRIVATE EVENT*
DESCRIPTION:
URL:https://dougrobbmusic.com/event/private-event-3-2-2-2-2-2-5-4-2-6-7-2-2-2-2-2-2-4-2-2-2/
LOCATION:AB
CATEGORIES:Doug Robb Acoustic Shows
ATTACH;FMTTYPE=image/png:https://dougrobbmusic.com/wp-content/uploads/2026/02/doug-robb-Private-Event.png
END:VEVENT
BEGIN:VEVENT
DTSTART;TZID=America/Edmonton:20260416T130000
DTEND;TZID=America/Edmonton:20260416T140000
DTSTAMP:20260422T155346
CREATED:20260227T053749Z
LAST-MODIFIED:20260305T000252Z
UID:2629-1776344400-1776348000@dougrobbmusic.com
SUMMARY:*PRIVATE EVENT*
DESCRIPTION:
URL:https://dougrobbmusic.com/event/private-event-3-2-2-2-2-2-5-4-2-6-7-2-2-2-2-2-2-4-2-2/
LOCATION:AB
CATEGORIES:Doug Robb Acoustic Shows
ATTACH;FMTTYPE=image/png:https://dougrobbmusic.com/wp-content/uploads/2026/02/doug-robb-Private-Event.png
END:VEVENT
BEGIN:VEVENT
DTSTART;TZID=America/Edmonton:20260424T110000
DTEND;TZID=America/Edmonton:20260424T120000
DTSTAMP:20260422T155346
CREATED:20260422T004103Z
LAST-MODIFIED:20260422T004103Z
UID:2766-1777028400-1777032000@dougrobbmusic.com
SUMMARY:Bountiful Market
DESCRIPTION:
URL:https://dougrobbmusic.com/event/bountiful-market-3-2-2-2-2-2-2-2-2-2-2-2-2-2-2-2-2-2-2-2-2-2-3-2-2-2-2-3-2-2-2-2-2-2-2-2-2-2/
LOCATION:Bountiful Market\, 3696 97 Street\, Edmonton\, Alberta\, T6E5N2\, Canada
CATEGORIES:Doug Robb Acoustic Shows
ATTACH;FMTTYPE=image/png:https://dougrobbmusic.com/wp-content/uploads/2026/04/26.04.24-Bountiful-Market-Edmonton-AB.png
ORGANIZER;CN="Doug Robb Music Team":MAILTO:info@dougrobbmusic.com
END:VEVENT
BEGIN:VEVENT
DTSTART;TZID=America/Edmonton:20260429T113000
DTEND;TZID=America/Edmonton:20260429T133000
DTSTAMP:20260422T155346
CREATED:20260422T004430Z
LAST-MODIFIED:20260422T004430Z
UID:2769-1777462200-1777469400@dougrobbmusic.com
SUMMARY:*PRIVATE EVENT*
DESCRIPTION:
URL:https://dougrobbmusic.com/event/private-event-3-2-2-2-2-2-5-4-2-6-7-2-2-2-2-2-2-4-2-2-2-2/
LOCATION:AB
CATEGORIES:Doug Robb Acoustic Shows
ATTACH;FMTTYPE=image/png:https://dougrobbmusic.com/wp-content/uploads/2026/02/doug-robb-Private-Event.png
ORGANIZER;CN="Doug Robb Music Team":MAILTO:info@dougrobbmusic.com
END:VEVENT
BEGIN:VEVENT
DTSTART;TZID=America/Edmonton:20260501T190000
DTEND;TZID=America/Edmonton:20260501T210000
DTSTAMP:20260422T155346
CREATED:20260227T054153Z
LAST-MODIFIED:20260305T001859Z
UID:2635-1777662000-1777669200@dougrobbmusic.com
SUMMARY:Stronghold Brewing Co.
DESCRIPTION:
URL:https://dougrobbmusic.com/event/stronghold-brewing-co-2-2/
LOCATION:Stronghold Brewing Co.\, 230 24th st.\, Fort MacLeod\, AB\, T0L0Z0\, Canada
CATEGORIES:Doug Robb Acoustic Shows
ATTACH;FMTTYPE=image/png:https://dougrobbmusic.com/wp-content/uploads/2026/02/26.05.01-Stronghold-Brewing-Co.-Fort-MacLeod-AB-1.png
ORGANIZER;CN="The Next Level Entertainment Consulting Inc":MAILTO:info@tnlec.com
END:VEVENT
BEGIN:VEVENT
DTSTART;TZID=America/Edmonton:20260508T190000
DTEND;TZID=America/Edmonton:20260508T230000
DTSTAMP:20260422T155346
CREATED:20260422T004923Z
LAST-MODIFIED:20260422T004923Z
UID:2771-1778266800-1778281200@dougrobbmusic.com
SUMMARY:Dicey Reilly's Irish Pub
DESCRIPTION:
URL:https://dougrobbmusic.com/event/dicey-reillys-irish-pub-2-2-2-2-2-2/
LOCATION:Dicey Reilly’s Irish Pub\, 398 St Albert Trl unit 104\, St. Albert\, AB\, T8N 2E7\, Canada
CATEGORIES:Doug Robb Acoustic Shows
ATTACH;FMTTYPE=image/png:https://dougrobbmusic.com/wp-content/uploads/2026/04/26.05.08-Dicey-Reillys-St.-Albert-AB.png
ORGANIZER;CN="Doug Robb Music Team":MAILTO:info@dougrobbmusic.com
END:VEVENT
BEGIN:VEVENT
DTSTART;TZID=America/Edmonton:20260509T190000
DTEND;TZID=America/Edmonton:20260509T220000
DTSTAMP:20260422T155346
CREATED:20260227T054319Z
LAST-MODIFIED:20260227T054319Z
UID:2637-1778353200-1778364000@dougrobbmusic.com
SUMMARY:Moxy Banff - Live #atTheMoxy Music Series
DESCRIPTION:
URL:https://dougrobbmusic.com/event/live-atthemoxy-music-series-2-2-2-3-2-2/
LOCATION:Moxy Banff\, 555 Banff Ave.\, Banff\, AB\, T1L1B5\, Canada
CATEGORIES:Doug Robb Acoustic Shows
ATTACH;FMTTYPE=image/png:https://dougrobbmusic.com/wp-content/uploads/2026/02/26.05.09-Live-at-the-Moxy-Banff-AB.png
ORGANIZER;CN="The Next Level Entertainment Consulting Inc":MAILTO:info@tnlec.com
END:VEVENT
BEGIN:VEVENT
DTSTART;TZID=America/Vancouver:20260514T200000
DTEND;TZID=America/Vancouver:20260514T230000
DTSTAMP:20260422T155346
CREATED:20251126T204223Z
LAST-MODIFIED:20251126T204223Z
UID:2528-1778788800-1778799600@dougrobbmusic.com
SUMMARY:The Black Clover Irish Pub
DESCRIPTION:
URL:https://dougrobbmusic.com/event/the-black-clover-irish-pub-4-2-3-2-2-2-2-2-2-3-3-4/
LOCATION:The Black Clover Irish Pub\, 1165 5th Ave\, Prince George\, BC\, V2L3L1\, Canada
CATEGORIES:Doug Robb Acoustic Shows
ATTACH;FMTTYPE=image/png:https://dougrobbmusic.com/wp-content/uploads/2025/11/26.05.141516-The-Black-Clover-Prince-George-BC.png
ORGANIZER;CN="The Next Level Entertainment Consulting Inc":MAILTO:info@tnlec.com
END:VEVENT
BEGIN:VEVENT
DTSTART;TZID=America/Vancouver:20260515T210000
DTEND;TZID=America/Vancouver:20260515T233000
DTSTAMP:20260422T155346
CREATED:20251126T204259Z
LAST-MODIFIED:20251126T204352Z
UID:2531-1778878800-1778887800@dougrobbmusic.com
SUMMARY:The Black Clover Irish Pub
DESCRIPTION:
URL:https://dougrobbmusic.com/event/the-black-clover-irish-pub-4-2-3-2-2-2-2-2-2-3-3-4-2/
LOCATION:The Black Clover Irish Pub\, 1165 5th Ave\, Prince George\, BC\, V2L3L1\, Canada
CATEGORIES:Doug Robb Acoustic Shows
ATTACH;FMTTYPE=image/png:https://dougrobbmusic.com/wp-content/uploads/2025/11/26.05.141516-The-Black-Clover-Prince-George-BC.png
ORGANIZER;CN="The Next Level Entertainment Consulting Inc":MAILTO:info@tnlec.com
END:VEVENT
BEGIN:VEVENT
DTSTART;TZID=America/Vancouver:20260516T210000
DTEND;TZID=America/Vancouver:20260516T233000
DTSTAMP:20260422T155346
CREATED:20251126T204330Z
LAST-MODIFIED:20251126T204330Z
UID:2533-1778965200-1778974200@dougrobbmusic.com
SUMMARY:The Black Clover Irish Pub
DESCRIPTION:
URL:https://dougrobbmusic.com/event/the-black-clover-irish-pub-4-2-3-2-2-2-2-2-2-3-3-4-2-2/
LOCATION:The Black Clover Irish Pub\, 1165 5th Ave\, Prince George\, BC\, V2L3L1\, Canada
CATEGORIES:Doug Robb Acoustic Shows
ATTACH;FMTTYPE=image/png:https://dougrobbmusic.com/wp-content/uploads/2025/11/26.05.141516-The-Black-Clover-Prince-George-BC.png
ORGANIZER;CN="The Next Level Entertainment Consulting Inc":MAILTO:info@tnlec.com
END:VEVENT
BEGIN:VEVENT
DTSTART;TZID=America/Edmonton:20260521T180000
DTEND;TZID=America/Edmonton:20260521T200000
DTSTAMP:20260422T155346
CREATED:20260422T005518Z
LAST-MODIFIED:20260422T005518Z
UID:2775-1779386400-1779393600@dougrobbmusic.com
SUMMARY:Snake Lake Brewing Company
DESCRIPTION:
URL:https://dougrobbmusic.com/event/snake-lake-brewing-company-2-2-2-3-2/
LOCATION:Snake Lake Brewing Company\, 26 Industrial Drive\, Sylvan Lake\, Alberta\, T4S 1P5\, Canada
CATEGORIES:Doug Robb Acoustic Shows
ATTACH;FMTTYPE=image/png:https://dougrobbmusic.com/wp-content/uploads/2026/04/26.05.21-Snake-Lake-Brewing-Company-Sylvan-Lake-AB.png
ORGANIZER;CN="Doug Robb Music Team":MAILTO:info@dougrobbmusic.com
END:VEVENT
BEGIN:VEVENT
DTSTART;TZID=America/Edmonton:20260522T183000
DTEND;TZID=America/Edmonton:20260522T213000
DTSTAMP:20260422T155346
CREATED:20260422T010616Z
LAST-MODIFIED:20260422T010616Z
UID:2778-1779474600-1779485400@dougrobbmusic.com
SUMMARY:St. Albert\, AB Glass House Restaurant Bar
DESCRIPTION:
URL:https://dougrobbmusic.com/event/st-albert-ab-glass-house-restaurant-bar/
LOCATION:AB
CATEGORIES:Doug Robb Acoustic Shows
ATTACH;FMTTYPE=image/png:https://dougrobbmusic.com/wp-content/uploads/2026/04/26.05.22-Glass-House-Kitchen-Bar-St.-Albert-AB.png
ORGANIZER;CN="Doug Robb Music Team":MAILTO:info@dougrobbmusic.com
END:VEVENT
BEGIN:VEVENT
DTSTART;TZID=America/Edmonton:20260523T210000
DTEND;TZID=America/Edmonton:20260524T010000
DTSTAMP:20260422T155346
CREATED:20260227T054422Z
LAST-MODIFIED:20260227T054422Z
UID:2639-1779570000-1779584400@dougrobbmusic.com
SUMMARY:Neighbours Pub
DESCRIPTION:
URL:https://dougrobbmusic.com/event/neighbours-pub-2-2-2/
LOCATION:Neighbours Pub\, 4810 50 St.\, Athabasca\, AB\, T9S 1C9\, Canada
CATEGORIES:Doug Robb Acoustic Shows
ATTACH;FMTTYPE=image/png:https://dougrobbmusic.com/wp-content/uploads/2026/02/26.05.23-Neighbours-Pub-Athabasca-AB.png
END:VEVENT
BEGIN:VEVENT
DTSTART;TZID=America/Edmonton:20260531T140000
DTEND;TZID=America/Edmonton:20260531T160000
DTSTAMP:20260422T155346
CREATED:20260422T015938Z
LAST-MODIFIED:20260422T015938Z
UID:2781-1780236000-1780243200@dougrobbmusic.com
SUMMARY:*PRIVATE EVENT*
DESCRIPTION:
URL:https://dougrobbmusic.com/event/private-event-3-2-2-2-2-2-5-4-2-6-7-2-2-2-2-2-2-4-2-2-2-2-2/
LOCATION:AB
CATEGORIES:Doug Robb Acoustic Shows
ATTACH;FMTTYPE=image/png:https://dougrobbmusic.com/wp-content/uploads/2026/02/doug-robb-Private-Event.png
ORGANIZER;CN="Doug Robb Music Team":MAILTO:info@dougrobbmusic.com
END:VEVENT
BEGIN:VEVENT
DTSTART;TZID=America/Vancouver:20260613T180000
DTEND;TZID=America/Vancouver:20260613T210000
DTSTAMP:20260422T155346
CREATED:20260227T054705Z
LAST-MODIFIED:20260227T054705Z
UID:2643-1781373600-1781384400@dougrobbmusic.com
SUMMARY:The Pond Country Market
DESCRIPTION:
URL:https://dougrobbmusic.com/event/the-pond-country-market-2-2-2/
LOCATION:The Pond Country Market\, 6231 Barnhartvale Rd.\, Kamloops\, BC\, V2C6V6\, Canada
CATEGORIES:Doug Robb Acoustic Shows
ATTACH;FMTTYPE=image/png:https://dougrobbmusic.com/wp-content/uploads/2026/02/26.06.13-The-Pond-Country-Market-Kamloops-BC.png
ORGANIZER;CN="The Next Level Entertainment Consulting Inc":MAILTO:info@tnlec.com
END:VEVENT
BEGIN:VEVENT
DTSTART;TZID=America/Vancouver:20260702T160000
DTEND;TZID=America/Vancouver:20260702T193000
DTSTAMP:20260422T155346
CREATED:20250922T191137Z
LAST-MODIFIED:20251017T203156Z
UID:2296-1783008000-1783020600@dougrobbmusic.com
SUMMARY:Farmstrong Cider Company
DESCRIPTION:
URL:https://dougrobbmusic.com/event/armstrong-cider-company-2-2/
LOCATION:Farmstrong Cider Company\, 4300 Maw Rd.\, Armstrong\, BC\, V4Y0M2\, Canada
CATEGORIES:Doug Robb Acoustic Shows
ATTACH;FMTTYPE=image/png:https://dougrobbmusic.com/wp-content/uploads/2025/09/26.07.02-Farmstrong-Cider-Company-Armstrong-BC-1.png
ORGANIZER;CN="The Next Level Entertainment Consulting Inc":MAILTO:info@tnlec.com
END:VEVENT
BEGIN:VEVENT
DTSTART;TZID=America/Edmonton:20260703T180000
DTEND;TZID=America/Edmonton:20260703T210000
DTSTAMP:20260422T155346
CREATED:20260227T054841Z
LAST-MODIFIED:20260305T001940Z
UID:2645-1783101600-1783112400@dougrobbmusic.com
SUMMARY:Giant's Head Brewing
DESCRIPTION:
URL:https://dougrobbmusic.com/event/giants-head-brewing-2/
LOCATION:Giant’s Head Brewing\, 13224 Victoria Rd. N\, Summerland\, BC\, V0H 1Z0\, Canada
CATEGORIES:Doug Robb Acoustic Shows
ATTACH;FMTTYPE=image/png:https://dougrobbmusic.com/wp-content/uploads/2026/02/26.07.03-Giants-Head-Brewery-Summerland-BC-1.png
ORGANIZER;CN="The Next Level Entertainment Consulting Inc":MAILTO:info@tnlec.com
END:VEVENT
BEGIN:VEVENT
DTSTART;TZID=America/Edmonton:20260704T180000
DTEND;TZID=America/Edmonton:20260704T220000
DTSTAMP:20260422T155346
CREATED:20251017T205752Z
LAST-MODIFIED:20260305T000335Z
UID:2403-1783188000-1783202400@dougrobbmusic.com
SUMMARY:*PRIVATE EVENT*
DESCRIPTION:
URL:https://dougrobbmusic.com/event/private-event-3-2-2-2-2-2-5-4-2-6-7-2-2-2-2-2-2/
LOCATION:AB
CATEGORIES:Doug Robb Acoustic Shows
ATTACH;FMTTYPE=image/png:https://dougrobbmusic.com/wp-content/uploads/2026/02/doug-robb-Private-Event.png
ORGANIZER;CN="The Next Level Entertainment Consulting Inc":MAILTO:info@tnlec.com
END:VEVENT
BEGIN:VEVENT
DTSTART;TZID=America/Edmonton:20260711T123000
DTEND;TZID=America/Edmonton:20260711T160000
DTSTAMP:20260422T155346
CREATED:20260227T055221Z
LAST-MODIFIED:20260305T191524Z
UID:2653-1783773000-1783785600@dougrobbmusic.com
SUMMARY:The Doukhobor Dugout House Historical Site
DESCRIPTION:
URL:https://dougrobbmusic.com/event/the-doukhobor-dugout-house-historical-site-2-2/
LOCATION:The Doukhobor Dugout House Historical Site\, Blaine Lake No. 434\, Blaine\, SK\, S0J0J0\, Canada
CATEGORIES:Doug Robb Acoustic Shows
ATTACH;FMTTYPE=image/png:https://dougrobbmusic.com/wp-content/uploads/2026/02/26.07.11-The-Doukhobor-Dugout-House-Blaine-SK-1.png
ORGANIZER;CN="The Next Level Entertainment Consulting Inc":MAILTO:info@tnlec.com
END:VEVENT
END:VCALENDAR