BEGIN:VCALENDAR
VERSION:2.0
PRODID:-//Doug Robb Music - ECPv6.15.20//NONSGML v1.0//EN
CALSCALE:GREGORIAN
METHOD:PUBLISH
X-ORIGINAL-URL:https://dougrobbmusic.com
X-WR-CALDESC:Events for Doug Robb Music
REFRESH-INTERVAL;VALUE=DURATION:PT1H
X-Robots-Tag:noindex
X-PUBLISHED-TTL:PT1H
BEGIN:VTIMEZONE
TZID:America/Edmonton
BEGIN:DAYLIGHT
TZOFFSETFROM:-0700
TZOFFSETTO:-0600
TZNAME:MDT
DTSTART:20240310T090000
END:DAYLIGHT
BEGIN:STANDARD
TZOFFSETFROM:-0600
TZOFFSETTO:-0700
TZNAME:MST
DTSTART:20241103T080000
END:STANDARD
BEGIN:DAYLIGHT
TZOFFSETFROM:-0700
TZOFFSETTO:-0600
TZNAME:MDT
DTSTART:20250309T090000
END:DAYLIGHT
BEGIN:STANDARD
TZOFFSETFROM:-0600
TZOFFSETTO:-0700
TZNAME:MST
DTSTART:20251102T080000
END:STANDARD
BEGIN:DAYLIGHT
TZOFFSETFROM:-0700
TZOFFSETTO:-0600
TZNAME:MDT
DTSTART:20260308T090000
END:DAYLIGHT
BEGIN:STANDARD
TZOFFSETFROM:-0600
TZOFFSETTO:-0700
TZNAME:MST
DTSTART:20261101T080000
END:STANDARD
END:VTIMEZONE
BEGIN:VEVENT
DTSTART;TZID=America/Edmonton:20251031T210000
DTEND;TZID=America/Edmonton:20251101T010000
DTSTAMP:20260424T201023
CREATED:20250422T175127Z
LAST-MODIFIED:20250422T175127Z
UID:1947-1761944400-1761958800@dougrobbmusic.com
SUMMARY:Newcastle Pub & Grill
DESCRIPTION:
URL:https://dougrobbmusic.com/event/newcastle-pub-grill-2-2-2-2/
LOCATION:Newcastle Pub & Grill\, 145-8170 50 Street NW\, Edmonton\, Alberta\, T6B1E6\, Canada
CATEGORIES:Powerhouse
ATTACH;FMTTYPE=image/png:https://dougrobbmusic.com/wp-content/uploads/2025/04/25.10.31-Powerhouse-Newcastle.png
ORGANIZER;CN="Vince Greenwood%2C Powerhouse Manager":MAILTO:vincegreenwood92@gmail.com
END:VEVENT
END:VCALENDAR